BEGIN:VCALENDAR
VERSION:2.0
PRODID:-//Healthtrust Education - ECPv6.15.20//NONSGML v1.0//EN
CALSCALE:GREGORIAN
METHOD:PUBLISH
X-ORIGINAL-URL:https://education.healthtrustpg.com
X-WR-CALDESC:Events for Healthtrust Education
REFRESH-INTERVAL;VALUE=DURATION:PT1H
X-Robots-Tag:noindex
X-PUBLISHED-TTL:PT1H
BEGIN:VTIMEZONE
TZID:America/Chicago
BEGIN:DAYLIGHT
TZOFFSETFROM:-0600
TZOFFSETTO:-0500
TZNAME:CDT
DTSTART:20230312T080000
END:DAYLIGHT
BEGIN:STANDARD
TZOFFSETFROM:-0500
TZOFFSETTO:-0600
TZNAME:CST
DTSTART:20231105T070000
END:STANDARD
BEGIN:DAYLIGHT
TZOFFSETFROM:-0600
TZOFFSETTO:-0500
TZNAME:CDT
DTSTART:20240310T080000
END:DAYLIGHT
BEGIN:STANDARD
TZOFFSETFROM:-0500
TZOFFSETTO:-0600
TZNAME:CST
DTSTART:20241103T070000
END:STANDARD
BEGIN:DAYLIGHT
TZOFFSETFROM:-0600
TZOFFSETTO:-0500
TZNAME:CDT
DTSTART:20250309T080000
END:DAYLIGHT
BEGIN:STANDARD
TZOFFSETFROM:-0500
TZOFFSETTO:-0600
TZNAME:CST
DTSTART:20251102T070000
END:STANDARD
END:VTIMEZONE
BEGIN:VEVENT
DTSTART;VALUE=DATE:20240812
DTEND;VALUE=DATE:20240813
DTSTAMP:20260424T080148
CREATED:20240820T182315Z
LAST-MODIFIED:20240827T132029Z
UID:10001531-1723420800-1723507199@education.healthtrustpg.com
SUMMARY:Day 1 | 2024 HealthTrust University Conference
DESCRIPTION:2024 HTU – August 12\nOrlando  |  August 12\, 13\, 14. CE Credit deadline is Sept. 30\, 2024. CE is only available for those who attended the in-person event. \n \n\nInnovation in Healthcare  |  Recording  |  Innovation in Healthcare_PDF\nValue Analysis Journey:  From Concept to Reality  |  Recording  |  Value-Analysis-Journey_PDF\nHuman Trafficking & Forced Labor:  The Nexus to U.S. Healthcare & Supply Chain  |  Recording  |  Human-Trafficking_Forced-Labor_PDF\nDapagliflozin\, Sacubitril\, Ivabradine: Word Scrabble?! A Closer Look at New Heart Failure Therapies  |  Recording  |  Dapag-Sacub-Ivabrad-WordScrabble_PDF\n2024 Executive Pharmacy Exchange  |  Recording  |  2024_Executive_Pharmacy_Exchange_PDF\nInnovation\, New Technology & the Impact of Member Voice at HealthtTrust  |  Recording  |  InnovationMemberVoice_PDF\nPhysicians in Value Analysis:  Partnerships to Address PPI  |  Recording  |  Physicians-in-VA_PartnershipsPPI_PDF\nClosing the Gaps Within Health Disparity:  Priorities & Partnerships  |  Recording  |  Closing-the-Gap-Health-Disparities_PDF\nMed “Wreck” to Med Rec: Medication Reconciliation  | Register to attend virtual session\nPump The Brakes:  A Focus on Infusion Device Safety  |  Recording  |  Pump the Brakes_PDF\nRevitalizing Workforce Engagement & Retention:  Modernizing the Pharmacy Career Ladder  |  Recording  |  Revitalizing Workforce Engmnt_PDF\n\n  \nNote: If a program is not listed\, it means the presenter(s) did not give permission to share their content.  \n____________ \n2025 HTU\nThe next HTU will be held August 18-20\, in San Antonio. \nThe 2025 Call for Proposals opens in mid-Sept. 2024. Check back for details & a link to the submission site. Proposals on relevant industry topics for a multidisciplinary audience are preferred & will be submitted for Continuing Education credit to ACHE\, ACPE\, AHRMM &/or the California Board of Nursing.
URL:https://education.healthtrustpg.com/calendar/day-1-2024-healthtrust-university-conference/
CATEGORIES:Healthcare Executives,Nursing,Pharmacy,Supply Chain
END:VEVENT
BEGIN:VEVENT
DTSTART;VALUE=DATE:20240813
DTEND;VALUE=DATE:20240814
DTSTAMP:20260424T080148
CREATED:20240820T182848Z
LAST-MODIFIED:20250409T214156Z
UID:10001550-1723507200-1723593599@education.healthtrustpg.com
SUMMARY:Day 2 | 2024 HealthTrust University Conference
DESCRIPTION:2024 HTU – August 13\nOrlando  |  August 12\, 13\, 14. CE Credit deadline is Sept. 30\, 2024. CE is only available for those who attended the in-person event. \n \n\nTaking Control of Robotic Inventory  |  Recording  |  T_945_Taking Control-Robotic Inventory_For PDF\nStrategies for Addressing Workplace Violence in Healthcare  |  Recording  |  Strategies-Addressing-Wkplc-Violence_PDF\nOn The Path to Net Zero–Lessons Learned from Two Healthcare Organizations  |  Recording  |  On-Path-to-Net-Zero_PDF\nIt’s About Time:  The Impact of Vancomycin AUC Dosing on Patient Outcomes & Pharmacy Workflow  |  Recording  |  Its_About_Time-Vancomycin_PDF\n340B in the Field  |  Recording  |  340B In The Field_PDF\nUnlocking the Vault  |  Recording  |  Unlocking the Vault_PDF\nHow to Successfully Navigate Cardiovascular Trends  |  Recording  |  Navigating CV Trends_PDF\nHow Do You Reflex? Evaluation of UA Reflex Parameters to Promote Antimicrobial Stewarship  |  Recording  |  How Do You Reflex\n\n____________ \nNote: If a program is not listed\, it means the presenter(s) did not give permission to share their content.  \n____________ \n2025 HTU \nThe next HTU will be held August 18-20\, in San Antonio. \nThe 2025 Call for Proposals opens in mid-Sept. 2024. Check back for details & a link to the submission site. Proposals on relevant industry topics for a multidisciplinary audience are preferred & will be submitted for Continuing Education credit to ACHE\, ACPE\, AHRMM &/or the California Board of Nursing.
URL:https://education.healthtrustpg.com/calendar/day-2-2024-healthtrust-university-conference/
CATEGORIES:Healthcare Executives,Nursing,Pharmacy,Supply Chain
END:VEVENT
BEGIN:VEVENT
DTSTART;VALUE=DATE:20240814
DTEND;VALUE=DATE:20240815
DTSTAMP:20260424T080148
CREATED:20240820T183540Z
LAST-MODIFIED:20240827T204015Z
UID:10001552-1723593600-1723679999@education.healthtrustpg.com
SUMMARY:Day 3 | 2024 HealthTrust University Conference
DESCRIPTION:2024 HTU – August 14\n  \nOrlando  |  August 12\, 13\, 14. CE Credit deadline is Sept. 30\, 2024. CE is only available for those who attended the in-person event. \n \n\nPharmacy Revolution: Innovating Prescription Fulfillment With In-clinic Micropharmacies  |  Register to Attend Virtual Session\nRhythm or Rate & When to Anti-coagulate:  Change in 2024 AFib Guidelines  |  Register to Attend Virtual Session\nIt’s a Small Copay After All—Launching a Central MPAP (Medication Patient-Assistance Program) Team  |  Register to Attend Virtual Session\nCultivating Collaborative Teams to Build a Coalition for Rapid Organizational Decision-Making  |  Recording  |  Cultivating-Collaborative-Teams_PDF\nStreamlining Healthcare Logistics:  Back to Basics  |  Recording  |  Streamlining-Healthcare-Logistics_PDF\nNavigating Through Microbiology Changes That Impact Your Antimicrobial Stewardship Program  |  Recording  |  Navigating-Through-MicroB-Chgs__PDF\nOperationalizing Guidelines Medication Management:  An Exploration of Collaborative Practice Pharmacist  |  Recording  |  OperationalizingGuidelinesMedMgt_PDF\nHow the Rx Inventory Turns – A Centralized Influence  |  Register to Attend Virtual Session\n\n____________ \nNote: If a program is not listed\, it means the presenter(s) did not give permission to share their content.  \n____________ \n2025 HTU\nThe next HTU will be held August 18-20\, in San Antonio. \nThe 2025 Call for Proposals opens in mid-Sept. 2024. Check back for details & a link to the submission site. Proposals on relevant industry topics for a multidisciplinary audience are preferred & will be submitted for Continuing Education credit to ACHE\, ACPE\, AHRMM &/or the California Board of Nursing. \n  \n 
URL:https://education.healthtrustpg.com/calendar/day-3-2024-healthtrust-university-conference/
CATEGORIES:Healthcare Executives,Nursing,Pharmacy,Supply Chain
END:VEVENT
END:VCALENDAR