BEGIN:VCALENDAR
VERSION:2.0
PRODID:-//Healthtrust Education - ECPv6.15.18//NONSGML v1.0//EN
CALSCALE:GREGORIAN
METHOD:PUBLISH
X-ORIGINAL-URL:https://education.healthtrustpg.com
X-WR-CALDESC:Events for Healthtrust Education
REFRESH-INTERVAL;VALUE=DURATION:PT1H
X-Robots-Tag:noindex
X-PUBLISHED-TTL:PT1H
BEGIN:VTIMEZONE
TZID:America/Chicago
BEGIN:DAYLIGHT
TZOFFSETFROM:-0600
TZOFFSETTO:-0500
TZNAME:CDT
DTSTART:20250309T080000
END:DAYLIGHT
BEGIN:STANDARD
TZOFFSETFROM:-0500
TZOFFSETTO:-0600
TZNAME:CST
DTSTART:20251102T070000
END:STANDARD
BEGIN:DAYLIGHT
TZOFFSETFROM:-0600
TZOFFSETTO:-0500
TZNAME:CDT
DTSTART:20260308T080000
END:DAYLIGHT
BEGIN:STANDARD
TZOFFSETFROM:-0500
TZOFFSETTO:-0600
TZNAME:CST
DTSTART:20261101T070000
END:STANDARD
BEGIN:DAYLIGHT
TZOFFSETFROM:-0600
TZOFFSETTO:-0500
TZNAME:CDT
DTSTART:20270314T080000
END:DAYLIGHT
BEGIN:STANDARD
TZOFFSETFROM:-0500
TZOFFSETTO:-0600
TZNAME:CST
DTSTART:20271107T070000
END:STANDARD
END:VTIMEZONE
BEGIN:VTIMEZONE
TZID:UTC
BEGIN:STANDARD
TZOFFSETFROM:+0000
TZOFFSETTO:+0000
TZNAME:UTC
DTSTART:20250101T000000
END:STANDARD
END:VTIMEZONE
BEGIN:VEVENT
DTSTART;TZID=America/Chicago:20260204T133000
DTEND;TZID=America/Chicago:20260204T143000
DTSTAMP:20260420T083457
CREATED:20251218T150209Z
LAST-MODIFIED:20260204T233935Z
UID:10001608-1770211800-1770215400@education.healthtrustpg.com
SUMMARY:"Hepatitis B Virus Management: Who\, When & How (to treat)"
DESCRIPTION:HealthTrust presents…“Hepatitis B Virus Management: Who\, When & How (to treat)” \n \nDownload the content. \nPlease Note: Continuing education credit is only available to those attending the session live. CE credit is not available when accessing the program on demand. \nChronic hepatitis B virus (HBV) remains a major global health concern. The World Health Organization estimates that in 2022 there were 254 million people living with chronic hepatitis B infection. Despite the high burden of disease\, critical knowledge gaps continue to limit optimal management. New developments\, including management of HBV-positive donor organs and evolving recommendations for complex patient populations highlight the importance of continued education for pharmacists and pharmacy technicians. This presentation aims to provide attendees with updated\, guideline-based recommendations for HBV management across diverse patient populations. Key areas of focus will include the use of HBV-positive donor organs in transplantation\, strategies for vaccine non-responders\, considerations for hepatitis D virus coinfection\, and management of complicated cases. \nLearning Objectives for Pharmacists & Nurses | At the end of this session\, participants should be able to: \n\nRecall evidenced-based guideline recommendations for hepatitis B virus (HBV) screening and patient eligibility for antivirals.\nRecognize serologic risk categories and specific needs for complex patients.\n Identify methods for optimizing clinical outcomes for HBV patients.\n\nLearning Objectives for Pharmacy Techs | At the end of this session\, participants should be able to: \n\nRecall HBV vaccine schedules\, indications and available vaccines to support immunization efforts.\nIdentify patterns of nonadherence to antiviral therapy to distinguish gaps in chronic therapy from short-term medications.\nRecognize strategies for effective education for patients receiving HBV vaccination series and cost concerns for antiviral therapy.\n\n  \nPresenter: \n \nDenise Avila\, PharmD  |  PGY1 Pharmacy Resident  |  HCA HealthONE Presbyterian St. Luke’s |  Denver\, CO \nTarget Audience:  Pharmacists\, Pharmacy Techs & Nurses \nCE Credit: Approved for Pharmacists\, Pharmacy Techs & Nurses \nThis program is approved for CPEs by the Accreditation Council for Pharmacy Education (ACPE). Attendees of this program may earn 1.0 CPE Contact Hours. Belmont University College of Pharmacy & Health Sciences is accredited by the Accreditation Council for Pharmacy Education as a provider of continuing pharmacy education. The Universal Activity Numbers for this activity are 0863-9999-26-002-L01-P and 0863-9999-26-002-L01-T. Pfiedler Education is a division of AORN\, provider approved by the California Board of Registered Nursing\, Provider Number CEP13019\, for 1 contact hour. 1.0 contact hours approved for Nurses. \nBelmont University CPHS Policy on Privacy & Confidentiality:  \n\nAll registration information for CPE activities collected in the registration system and/or on paper (e.g.\, sign-in sheet) is kept confidential and used only for the purpose of awarding CPE credit.\nArchived recordings of CPE activities are edited so that only the presenter’s shared screen and image are visible. Comments entered into a chat box during the CPE activity will be excluded from the recording whenever possible.\nCPHS does not share with any third party (including ineligible companies) or its agents the names or contact information of CPE learners without the explicit consent of the individual learner. If a third-party requests that information be shared with CPHS CPE participants\, CPHS will receive the requested information from the third party and share it with CPE participants via CPHS’s own communication methods.\n\nNote about CE credit: If you plan to obtain credit for a live session\, stay until the end of the presentation to receive the verification code you will need to obtain the continuing education credit. CE credit is individual. No group credit is available. Each person must register for a webinar and attend the webinar in its entirety in order to receive an email after the event with instructions on how to apply for continuing education credit. Attendees should not share the code or forward the email to others who did not actually attend the program. If they are not able to be verified on our webinar provider reports and registration list they will not receive credit. If you are joining only by phone\, you will not be eligible for credit. You must also log in and join the visual portion of the webinar to be part of our CE provider-required reporting. \n 
URL:https://education.healthtrustpg.com/calendar/hepatitis-b-virus-management-who-when-how-to-treat/
CATEGORIES:Nursing,Pharmacy,Physicians
END:VEVENT
BEGIN:VEVENT
DTSTART;VALUE=DATE:20260207
DTEND;VALUE=DATE:20260208
DTSTAMP:20260420T083457
CREATED:20191004T210019Z
LAST-MODIFIED:20241105T142537Z
UID:10002090-1770422400-1770508799@education.healthtrustpg.com
SUMMARY:On-demand Programs: "Why Wound Care?" for Practicing Clinicians
DESCRIPTION:HMP* presents 40…“Why Wound Care?” on-demand programs for Practicing Clinicians \n\n\n6.5 million U.S. patients are affected by non-healing wounds each year. With our aging population and the increase in diabetes and obesity these numbers will continue to rise. The need for specialized wound care clinicians has never been greater. \n\n\nOver 40 presentations on key wound care topics were developed by leading educators within this field as a way to encourage students and clinicians to consider a career as a wound care specialist. Check out the “Why Wound Care?” website and learn more for free. \nMission  |  To inform practicing clinicians from multiple clinical specialties about rewarding careers in wound care. \nVision  |  To increase the number of practicing clinicians pursuing a specialized wound care career to enhance safe\, effective care for people with\, or at risk for\, wounds. \nGoals  |  to provide practicing clinicians with: \n\n\n\n\n\n\n\n\n\n\n\n\n\n\n\n\n\n\n\n\nAccess to a wide variety of complimentary wound care educational-resources\nEvidence-based content for integrating wound management and prevention concepts into their practice\nInformation about the market needs and career opportunities within the field of wound care\n\n\n\n\n\n\n\n\n\n\n\n\n\n\n\n\n\n\n\n\nTarget audience: These presentations are designed for practicing clinicians involved in the treatment of patients with chronic wounds. \nThere is no CE credit associated with these programs. \nQuestions should be directed to HMP at: 800.237.7285. HMP (Healthcare Made Practical) educates and informs the global healthcare community. Through live meetings\, medical journals\, and digital networks\, its mission is to improve patient care. \n* NOTE: This is industry resource-sponsored content. HealthTrust has not approved and/or endorsed the content. The presentations may contain the mention of products\, services\, drugs or brands presented in a case study or comparative format. Such examples are intended for educational and informational purposes and should not be perceived as a HealthTrust endorsement of any particular supplier\, product\, service\, drug\, brand or approach.
URL:https://education.healthtrustpg.com/calendar/why-wound-care-on-demand-programs-for-practicing-clinicians/2026-02-07/
CATEGORIES:Nursing,Physicians
END:VEVENT
BEGIN:VEVENT
DTSTART;VALUE=DATE:20260214
DTEND;VALUE=DATE:20260215
DTSTAMP:20260420T083457
CREATED:20191004T210019Z
LAST-MODIFIED:20241105T142537Z
UID:10002091-1771027200-1771113599@education.healthtrustpg.com
SUMMARY:On-demand Programs: "Why Wound Care?" for Practicing Clinicians
DESCRIPTION:HMP* presents 40…“Why Wound Care?” on-demand programs for Practicing Clinicians \n\n\n6.5 million U.S. patients are affected by non-healing wounds each year. With our aging population and the increase in diabetes and obesity these numbers will continue to rise. The need for specialized wound care clinicians has never been greater. \n\n\nOver 40 presentations on key wound care topics were developed by leading educators within this field as a way to encourage students and clinicians to consider a career as a wound care specialist. Check out the “Why Wound Care?” website and learn more for free. \nMission  |  To inform practicing clinicians from multiple clinical specialties about rewarding careers in wound care. \nVision  |  To increase the number of practicing clinicians pursuing a specialized wound care career to enhance safe\, effective care for people with\, or at risk for\, wounds. \nGoals  |  to provide practicing clinicians with: \n\n\n\n\n\n\n\n\n\n\n\n\n\n\n\n\n\n\n\n\nAccess to a wide variety of complimentary wound care educational-resources\nEvidence-based content for integrating wound management and prevention concepts into their practice\nInformation about the market needs and career opportunities within the field of wound care\n\n\n\n\n\n\n\n\n\n\n\n\n\n\n\n\n\n\n\n\nTarget audience: These presentations are designed for practicing clinicians involved in the treatment of patients with chronic wounds. \nThere is no CE credit associated with these programs. \nQuestions should be directed to HMP at: 800.237.7285. HMP (Healthcare Made Practical) educates and informs the global healthcare community. Through live meetings\, medical journals\, and digital networks\, its mission is to improve patient care. \n* NOTE: This is industry resource-sponsored content. HealthTrust has not approved and/or endorsed the content. The presentations may contain the mention of products\, services\, drugs or brands presented in a case study or comparative format. Such examples are intended for educational and informational purposes and should not be perceived as a HealthTrust endorsement of any particular supplier\, product\, service\, drug\, brand or approach.
URL:https://education.healthtrustpg.com/calendar/why-wound-care-on-demand-programs-for-practicing-clinicians/2026-02-14/
CATEGORIES:Nursing,Physicians
END:VEVENT
BEGIN:VEVENT
DTSTART;VALUE=DATE:20260221
DTEND;VALUE=DATE:20260222
DTSTAMP:20260420T083457
CREATED:20191004T210019Z
LAST-MODIFIED:20241105T142537Z
UID:10002092-1771632000-1771718399@education.healthtrustpg.com
SUMMARY:On-demand Programs: "Why Wound Care?" for Practicing Clinicians
DESCRIPTION:HMP* presents 40…“Why Wound Care?” on-demand programs for Practicing Clinicians \n\n\n6.5 million U.S. patients are affected by non-healing wounds each year. With our aging population and the increase in diabetes and obesity these numbers will continue to rise. The need for specialized wound care clinicians has never been greater. \n\n\nOver 40 presentations on key wound care topics were developed by leading educators within this field as a way to encourage students and clinicians to consider a career as a wound care specialist. Check out the “Why Wound Care?” website and learn more for free. \nMission  |  To inform practicing clinicians from multiple clinical specialties about rewarding careers in wound care. \nVision  |  To increase the number of practicing clinicians pursuing a specialized wound care career to enhance safe\, effective care for people with\, or at risk for\, wounds. \nGoals  |  to provide practicing clinicians with: \n\n\n\n\n\n\n\n\n\n\n\n\n\n\n\n\n\n\n\n\nAccess to a wide variety of complimentary wound care educational-resources\nEvidence-based content for integrating wound management and prevention concepts into their practice\nInformation about the market needs and career opportunities within the field of wound care\n\n\n\n\n\n\n\n\n\n\n\n\n\n\n\n\n\n\n\n\nTarget audience: These presentations are designed for practicing clinicians involved in the treatment of patients with chronic wounds. \nThere is no CE credit associated with these programs. \nQuestions should be directed to HMP at: 800.237.7285. HMP (Healthcare Made Practical) educates and informs the global healthcare community. Through live meetings\, medical journals\, and digital networks\, its mission is to improve patient care. \n* NOTE: This is industry resource-sponsored content. HealthTrust has not approved and/or endorsed the content. The presentations may contain the mention of products\, services\, drugs or brands presented in a case study or comparative format. Such examples are intended for educational and informational purposes and should not be perceived as a HealthTrust endorsement of any particular supplier\, product\, service\, drug\, brand or approach.
URL:https://education.healthtrustpg.com/calendar/why-wound-care-on-demand-programs-for-practicing-clinicians/2026-02-21/
CATEGORIES:Nursing,Physicians
END:VEVENT
BEGIN:VEVENT
DTSTART;TZID=America/Chicago:20260225T120000
DTEND;TZID=America/Chicago:20260225T130000
DTSTAMP:20260420T083457
CREATED:20260112T150721Z
LAST-MODIFIED:20260225T224236Z
UID:10001614-1772020800-1772024400@education.healthtrustpg.com
SUMMARY:"Beyond the Line: Oral Agents in the Treatment of Gram-Positive Blood Stream Infections"
DESCRIPTION:HealthTrust presents…“Beyond the Line: Oral Agents in the Treatment of Gram-Positive Blood Stream Infections” \n \nDownload the content. \nPlease Note: Continuing education credit is only available to those attending the session live. CE credit is not available when accessing the program on demand. \nCurrently\, gram-positive bacteremia is primarily managed with intravenous antibiotics for 14 days after the first negative blood culture. For some patients\, there are many barriers to using IV antibiotics for this duration. Emerging research is exploring the use of oral antibiotics\, but not as much for gram-positive bacteremia. The use of oral agents can provide the same level of care while avoiding common barriers to IV antibiotics such as availability\, transportation\, cost and side effects. This presentation will provide a brief overview of gram-positive bacteremia\, review the current standard of care with intravenous antibiotics\, and summarize key findings from recent literature evaluating oral agents. This information will help highlight the appropriate use of oral antibiotics for gram-positive bacteremia. \nLearning Objectives | At the end of this session\, participants should be able to: \n\nIdentify patient-specific factors for determining an appropriate candidate for oral antibiotics in the treatment of gram-positive bacteremia\nRecognize commonly used oral antibiotic options during the treatment of gram-positive infections along with strengths and/or limitations of their use\nRecall evidence-based treatment guidelines utilizing oral antibiotics for the patient with gram-positive bacteremia\n\nPresenter: \n \nMackenzie Hall\, PharmD  |  PGY1 Pharmacy Resident  |  Memorial Hospital of South Bend \nTarget Audience:  Pharmacists & Nurses \nCE Credit: Approved for Pharmacists & Nurses \nThis program is approved for CPEs by the Accreditation Council for Pharmacy Education (ACPE). Attendees of this program may earn 1.0 CPE Contact Hours. Belmont University College of Pharmacy & Health Sciences is accredited by the Accreditation Council for Pharmacy Education as a provider of continuing pharmacy education. The Universal Activity Number for this activity is 0863-9999-26-016-L01-P. Pfiedler Education is a division of AORN\, provider approved by the California Board of Registered Nursing\, Provider Number CEP13019\, for 1 contact hour. 1.0 contact hours approved for Nurses. \nBelmont University CPHS Policy on Privacy & Confidentiality:  \n\nAll registration information for CPE activities collected in the registration system and/or on paper (e.g.\, sign-in sheet) is kept confidential and used only for the purpose of awarding CPE credit.\nArchived recordings of CPE activities are edited so that only the presenter’s shared screen and image are visible. Comments entered into a chat box during the CPE activity will be excluded from the recording whenever possible.\nCPHS does not share with any third party (including ineligible companies) or its agents the names or contact information of CPE learners without the explicit consent of the individual learner. If a third-party requests that information be shared with CPHS CPE participants\, CPHS will receive the requested information from the third party and share it with CPE participants via CPHS’s own communication methods.\n\nNote about CE credit: If you plan to obtain credit for a live session\, stay until the end of the presentation to receive the verification code you will need to obtain the continuing education credit. CE credit is individual. No group credit is available. Each person must register for a webinar and attend the webinar in its entirety in order to receive an email after the event with instructions on how to apply for continuing education credit. Attendees should not share the code or forward the email to others who did not actually attend the program. If they are not able to be verified on our webinar provider reports and registration list they will not receive credit. If you are joining only by phone\, you will not be eligible for credit. You must also log in and join the visual portion of the webinar to be part of our CE provider-required reporting.
URL:https://education.healthtrustpg.com/calendar/beyond-the-line-oral-agents-in-the-treatment-of-gram-positive-blood-stream-infections/
CATEGORIES:Nursing,Pharmacy,Physicians
END:VEVENT
BEGIN:VEVENT
DTSTART;VALUE=DATE:20260228
DTEND;VALUE=DATE:20260301
DTSTAMP:20260420T083457
CREATED:20191004T210019Z
LAST-MODIFIED:20241105T142537Z
UID:10002093-1772236800-1772323199@education.healthtrustpg.com
SUMMARY:On-demand Programs: "Why Wound Care?" for Practicing Clinicians
DESCRIPTION:HMP* presents 40…“Why Wound Care?” on-demand programs for Practicing Clinicians \n\n\n6.5 million U.S. patients are affected by non-healing wounds each year. With our aging population and the increase in diabetes and obesity these numbers will continue to rise. The need for specialized wound care clinicians has never been greater. \n\n\nOver 40 presentations on key wound care topics were developed by leading educators within this field as a way to encourage students and clinicians to consider a career as a wound care specialist. Check out the “Why Wound Care?” website and learn more for free. \nMission  |  To inform practicing clinicians from multiple clinical specialties about rewarding careers in wound care. \nVision  |  To increase the number of practicing clinicians pursuing a specialized wound care career to enhance safe\, effective care for people with\, or at risk for\, wounds. \nGoals  |  to provide practicing clinicians with: \n\n\n\n\n\n\n\n\n\n\n\n\n\n\n\n\n\n\n\n\nAccess to a wide variety of complimentary wound care educational-resources\nEvidence-based content for integrating wound management and prevention concepts into their practice\nInformation about the market needs and career opportunities within the field of wound care\n\n\n\n\n\n\n\n\n\n\n\n\n\n\n\n\n\n\n\n\nTarget audience: These presentations are designed for practicing clinicians involved in the treatment of patients with chronic wounds. \nThere is no CE credit associated with these programs. \nQuestions should be directed to HMP at: 800.237.7285. HMP (Healthcare Made Practical) educates and informs the global healthcare community. Through live meetings\, medical journals\, and digital networks\, its mission is to improve patient care. \n* NOTE: This is industry resource-sponsored content. HealthTrust has not approved and/or endorsed the content. The presentations may contain the mention of products\, services\, drugs or brands presented in a case study or comparative format. Such examples are intended for educational and informational purposes and should not be perceived as a HealthTrust endorsement of any particular supplier\, product\, service\, drug\, brand or approach.
URL:https://education.healthtrustpg.com/calendar/why-wound-care-on-demand-programs-for-practicing-clinicians/2026-02-28/
CATEGORIES:Nursing,Physicians
END:VEVENT
BEGIN:VEVENT
DTSTART;VALUE=DATE:20260228
DTEND;VALUE=DATE:20260301
DTSTAMP:20260420T083457
CREATED:20251028T154338Z
LAST-MODIFIED:20251028T160026Z
UID:10003718-1772236800-1772323199@education.healthtrustpg.com
SUMMARY:On demand program:  "A Clean\, Cover & Close Approach to Chronic Wounds: Integrating Patient-Centric Care & Reimbursement"
DESCRIPTION:HMP Education*\, an HMP Global Company & Smith & Nephew* present… a Complimentary 1-Hour CME/CNE/CPME/AAPA/AANP-Accredited On-Demand Webcast “A Clean\, Cover & Close Approach to Chronic Wounds: Integrating Patient-Centric Care & Reimbursement” \nLearning Objectives  |  After participating in this activity\, learners should be better able to: \n\nInvestigate the potential of collagenase in enhancing the pro-ECM response in chronic wounds through macrophage conversion to a fibroblast-like state\nEvaluate the impact of advanced therapies utilizing placental allografts on health outcomes for chronic wounds\, supported by recent big data research findings and optimal reimbursement strategies\nAnalyze the mechanism of action and clinical applications of single-use Negative Pressure Wound Therapy (NPWT) across the continuum and transitions of care\nExplore illustrative case-studies leveraging a clean\, cover\, and close method\, integrating advanced\ntherapies for optimal healing outcomes\n\nTarget Audience: This activity is designed for physicians\, nursing professionals\, physician associates/assistants\, physical therapists\, researchers\, scientists\, podiatrists\, and dietitians across all practice settings involved in wound healing or wound care issues. \nPresenters: \nLee Goldstein\, M.D.\, FACS  |  Wound Care Medical Director  |  Hartford Healthcare  |  Easton\, Connecticut \nErich S. Lemker\, M.D.  |  Chief\, Division of Plastic & Reconstructive Surgery  |  Community Regional Medical Center  |  Fresno\, California \nRodney Lindsay\, M.D.  |  Medical Director  |  Comprehensive Wound Center  |  Carrollton Regional Medical Center  |  Lewisville\, Texas \nContinuing Education Credit:   This on-demand webcast is available as a synchronized video with slides. To be eligible for credit\, participants must complete the educational activity\, complete the 4-question post-test with a minimum score of 70%\, and complete the activity evaluation form. Upon completing the activity\, there will be instructions on how to complete the evaluation and print a certificate or other documentation of credit. \nRelease Date: October 15\, 2025\nExpiration Date: December 30\, 2026\nEstimated Time to Complete: 1.00 hour\nThere is no fee associated with this activity. Supported by an independent educational grant from Smith & Nephew* \nIn support of improving patient care\, HMP Education is jointly accredited by the Accreditation Council for Continuing Medical Education (ACCME)\, the Accreditation Council for Pharmacy Education (ACPE)\, and the American Nurses Credentialing Center (ANCC) to provide continuing education for the healthcare team. Note: This statement is not an indication of approved credits. Please visit the accreditation page for full accreditation details\, including credit types and totals\, for this activity. \nPODIATRY: HMP Education is approved by the Council on Podiatric Medical Education as a provider of continuing education in podiatric medicine. HMP Education has approved this activity for a maximum of 1.00 continuing education contact hour. \nADA STATEMENT:  HMP Education complies with the legal requirements of the Americans with Disabilities Act and the rules and regulations thereof. Any participant in this educational activity who needs accommodation(s) may submit a request to the support team. \nIf you have questions about this program\, please submit a request to the support team. \n*NOTE: This is a supplier and/or industry resource-sponsored webinar. HealthTrust has not approved and/or endorsed the content. This program may contain the mention of products\, services\, drugs or brands presented in a case study or comparative format. Such examples are intended for educational and informational purposes and should not be perceived as a HealthTrust endorsement of any particular supplier\, product\, service\, drug\, brand or approach.
URL:https://education.healthtrustpg.com/calendar/on-demand-program-a-clean-cover-close-approach-to-chronic-wounds-integrating-patient-centric-care-reimbursement/2026-02-28/
CATEGORIES:Nursing,Pharmacy,Physicians,Podiatry
END:VEVENT
END:VCALENDAR