BEGIN:VCALENDAR
VERSION:2.0
PRODID:-//Healthtrust Education - ECPv6.15.20//NONSGML v1.0//EN
CALSCALE:GREGORIAN
METHOD:PUBLISH
X-WR-CALNAME:Healthtrust Education
X-ORIGINAL-URL:https://education.healthtrustpg.com
X-WR-CALDESC:Events for Healthtrust Education
REFRESH-INTERVAL;VALUE=DURATION:PT1H
X-Robots-Tag:noindex
X-PUBLISHED-TTL:PT1H
BEGIN:VTIMEZONE
TZID:America/Chicago
BEGIN:DAYLIGHT
TZOFFSETFROM:-0600
TZOFFSETTO:-0500
TZNAME:CDT
DTSTART:20250309T080000
END:DAYLIGHT
BEGIN:STANDARD
TZOFFSETFROM:-0500
TZOFFSETTO:-0600
TZNAME:CST
DTSTART:20251102T070000
END:STANDARD
BEGIN:DAYLIGHT
TZOFFSETFROM:-0600
TZOFFSETTO:-0500
TZNAME:CDT
DTSTART:20260308T080000
END:DAYLIGHT
BEGIN:STANDARD
TZOFFSETFROM:-0500
TZOFFSETTO:-0600
TZNAME:CST
DTSTART:20261101T070000
END:STANDARD
BEGIN:DAYLIGHT
TZOFFSETFROM:-0600
TZOFFSETTO:-0500
TZNAME:CDT
DTSTART:20270314T080000
END:DAYLIGHT
BEGIN:STANDARD
TZOFFSETFROM:-0500
TZOFFSETTO:-0600
TZNAME:CST
DTSTART:20271107T070000
END:STANDARD
END:VTIMEZONE
BEGIN:VEVENT
DTSTART;TZID=America/Chicago:20260423T120000
DTEND;TZID=America/Chicago:20260423T130000
DTSTAMP:20260423T153006
CREATED:20260327T135744Z
LAST-MODIFIED:20260423T185521Z
UID:10003947-1776945600-1776949200@education.healthtrustpg.com
SUMMARY:"Innovative Food Service Equipment Solutions to Combat Labor Shortages & Operational Challenges"
DESCRIPTION:HealthTrust presents…“Innovative Food Service Equipment Solutions to Combat Labor Shortages & Operational Challenges” \n \nDownload the content \nJoin us as we showcase cutting-edge food service equipment technologies that help healthcare organizations improve efficiency\, reduce labor dependency and address operational challenges in the food and nutrition space. \nLearning Objectives | At the end of this session\, participants should be able to: \n\nDiscover labor-saving technologies\nIdentify automation and smart equipment\nRecall strategies for sustainability and cost-efficiency\n\nModerator & Presenters: \n \nJohn Claytor  |  AVP\, Food & Nutrition Services  |  HealthTrust \n \nClint Robins  |  President  |  Griffin Commercial Kitchen Equipment \n \nMike Elling  | Corporate Chef  |  Griffin Commercial Kitchen Equipment \nTarget Audience: Food & Nutrition leaders in healthcare\, Supply Chain & Operations Executives\, Culinary & Dietary Managers \nCE Credit: There is NO CE credit available for this webinar.
URL:https://education.healthtrustpg.com/calendar/innovative-food-service-equipment-solutions-to-combat-labor-shortages-operational-challenges/
CATEGORIES:Food & Nutrition,Healthcare Executives
END:VEVENT
BEGIN:VEVENT
DTSTART;TZID=America/Chicago:20260423T130000
DTEND;TZID=America/Chicago:20260423T130000
DTSTAMP:20260423T153006
CREATED:20260326T213436Z
LAST-MODIFIED:20260326T214002Z
UID:10003948-1776949200-1776949200@education.healthtrustpg.com
SUMMARY:"Two Risk Phases for Skin Injury: Protecting ﻿Patients Across the Continuum of Care"
DESCRIPTION:HoverTech* presents…“Two Risk Phases for Skin Injury: Protecting Patients Across the Continuum of Care” \nSkin injury risk occurs across the entire continuum of care\, from admission and transport to daily repositioning and prolonged bed rest. While pressure is a recognized contributor to tissue injury\, shear and friction during patient movement and sustained pressure when positioning is not maintained are critical\, often underappreciated factors. This session introduces the concept of two key risk phases for skin injury: the movement phase\, characterized by shear and friction during repositioning and transfers\, and the dwell time phase\, marked by sustained pressure and tissue ischemia when support is inadequate. Participants will explore practical strategies to reduce tissue deformation during movement and maintain offloading using wedges and proper positioning including the use of pressure mapping. Through interactive discussion\, this session equips learners with actionable approaches to protect skin across the continuum of care. \nLearning Outcomes  |  At the end of this session\, participants should be able to: \n\nDescribe the two primary risk phases for skin injury: movement and dwell time \, across the\ncontinuum of care\nDifferentiate the roles of shear\, friction\, and sustained pressure in the development of skin\nand deep tissue injury\nExplain how repositioning and offloading strategies influence tissue tolerance in high-risk\npatients\nApply evidence-based repositioning and wedge-supported offloading strategies to prevent\npressure injuries\n\nPresenter: Elizabeth Doherty\, MSN\, CRNP\, FNP-BC  | Family Nurse Practitioner |  Clinical Education Specialist\, HoverTech \nContinuing Education:   \n\nFree Webinar – Earn One (1) Contact Hour. Attendees will have the opportunity to earn One (1) Contact Hour by completing the Evaluation Form that will be emailed within 48 hours after the LIVE session.\nThis webinar will also be available on-demand for those who cannot attend the LIVE session.\nAccrediting Provider for the Nursing CE: California Board of Nursing (#CEP15737).\nPlease allow up to 48 hours after the conclusion of the webinar to receive the evaluation follow-up required to obtain your certificate.\n\nQuestions? Please contact info@HovertechInternational.com with any questions or inquiries. \n*NOTE: This is a contracted supplier and/or industry-sponsored webinar. HealthTrust has not approved and/or endorsed the content. This program may contain the mention of products\, services\, drugs or brands presented in a case study or comparative format. Such examples are intended for educational and informational purposes and should not be perceived as an endorsement of any particular supplier\, product\, service\, drug\, brand or approach.
URL:https://education.healthtrustpg.com/calendar/two-risk-phases-for-skin-injury-protecting-patients-across-the-continuum-of-care/
CATEGORIES:Nursing,Other
END:VEVENT
END:VCALENDAR