BEGIN:VCALENDAR
VERSION:2.0
PRODID:-//Healthtrust Education - ECPv6.15.18//NONSGML v1.0//EN
CALSCALE:GREGORIAN
METHOD:PUBLISH
X-ORIGINAL-URL:https://education.healthtrustpg.com
X-WR-CALDESC:Events for Healthtrust Education
REFRESH-INTERVAL;VALUE=DURATION:PT1H
X-Robots-Tag:noindex
X-PUBLISHED-TTL:PT1H
BEGIN:VTIMEZONE
TZID:UTC
BEGIN:STANDARD
TZOFFSETFROM:+0000
TZOFFSETTO:+0000
TZNAME:UTC
DTSTART:20230101T000000
END:STANDARD
END:VTIMEZONE
BEGIN:VTIMEZONE
TZID:America/Chicago
BEGIN:DAYLIGHT
TZOFFSETFROM:-0600
TZOFFSETTO:-0500
TZNAME:CDT
DTSTART:20230312T080000
END:DAYLIGHT
BEGIN:STANDARD
TZOFFSETFROM:-0500
TZOFFSETTO:-0600
TZNAME:CST
DTSTART:20231105T070000
END:STANDARD
BEGIN:DAYLIGHT
TZOFFSETFROM:-0600
TZOFFSETTO:-0500
TZNAME:CDT
DTSTART:20240310T080000
END:DAYLIGHT
BEGIN:STANDARD
TZOFFSETFROM:-0500
TZOFFSETTO:-0600
TZNAME:CST
DTSTART:20241103T070000
END:STANDARD
BEGIN:DAYLIGHT
TZOFFSETFROM:-0600
TZOFFSETTO:-0500
TZNAME:CDT
DTSTART:20250309T080000
END:DAYLIGHT
BEGIN:STANDARD
TZOFFSETFROM:-0500
TZOFFSETTO:-0600
TZNAME:CST
DTSTART:20251102T070000
END:STANDARD
END:VTIMEZONE
BEGIN:VEVENT
DTSTART;VALUE=DATE:20241109
DTEND;VALUE=DATE:20241110
DTSTAMP:20260420T165607
CREATED:20191004T210019Z
LAST-MODIFIED:20241105T142537Z
UID:10002025-1731110400-1731196799@education.healthtrustpg.com
SUMMARY:On-demand Programs: "Why Wound Care?" for Practicing Clinicians
DESCRIPTION:HMP* presents 40…“Why Wound Care?” on-demand programs for Practicing Clinicians \n\n\n6.5 million U.S. patients are affected by non-healing wounds each year. With our aging population and the increase in diabetes and obesity these numbers will continue to rise. The need for specialized wound care clinicians has never been greater. \n\n\nOver 40 presentations on key wound care topics were developed by leading educators within this field as a way to encourage students and clinicians to consider a career as a wound care specialist. Check out the “Why Wound Care?” website and learn more for free. \nMission  |  To inform practicing clinicians from multiple clinical specialties about rewarding careers in wound care. \nVision  |  To increase the number of practicing clinicians pursuing a specialized wound care career to enhance safe\, effective care for people with\, or at risk for\, wounds. \nGoals  |  to provide practicing clinicians with: \n\n\n\n\n\n\n\n\n\n\n\n\n\n\n\n\n\n\n\n\nAccess to a wide variety of complimentary wound care educational-resources\nEvidence-based content for integrating wound management and prevention concepts into their practice\nInformation about the market needs and career opportunities within the field of wound care\n\n\n\n\n\n\n\n\n\n\n\n\n\n\n\n\n\n\n\n\nTarget audience: These presentations are designed for practicing clinicians involved in the treatment of patients with chronic wounds. \nThere is no CE credit associated with these programs. \nQuestions should be directed to HMP at: 800.237.7285. HMP (Healthcare Made Practical) educates and informs the global healthcare community. Through live meetings\, medical journals\, and digital networks\, its mission is to improve patient care. \n* NOTE: This is industry resource-sponsored content. HealthTrust has not approved and/or endorsed the content. The presentations may contain the mention of products\, services\, drugs or brands presented in a case study or comparative format. Such examples are intended for educational and informational purposes and should not be perceived as a HealthTrust endorsement of any particular supplier\, product\, service\, drug\, brand or approach.
URL:https://education.healthtrustpg.com/calendar/why-wound-care-on-demand-programs-for-practicing-clinicians/2024-11-09/
CATEGORIES:Nursing,Physicians
END:VEVENT
BEGIN:VEVENT
DTSTART;VALUE=DATE:20241109
DTEND;VALUE=DATE:20241110
DTSTAMP:20260420T165607
CREATED:20240909T182348Z
LAST-MODIFIED:20240909T182536Z
UID:10001534-1731110400-1731196799@education.healthtrustpg.com
SUMMARY:On-demand program: "Head to Toe Team Approach to Wound Management: Harnessing Innovations in Negative Pressure Wound Therapy"
DESCRIPTION:3M Health Care\, Medical Solutions Division* and HMP Global Learning Network*  present…an on-demand program: “Head to Toe Team Approach to Wound Management: Harnessing Innovations in Negative Pressure Wound Therapy” \nLearning Objectives  |  After participating in this activity\, learners should be better able to: \n\nExamine the latest innovations in negative pressure wound therapy (NPWT)\nDescribe a holistic approach to wound managing harnessing the versatility of NPWT from taking a wound from stalled\, to jump-starting healing to closure\nExplore cases illustrating the utility of and advances in negative pressure wound therapy in tackling wounds from head to toe\nEmploy a team approaching to optimize patient outcomes with NPWT\n\nPresenters: \nPaul J. Kim\, DPM\, MS\, FACFAS  |  Professor\, Department of Plastic Surgery\, Department of Orthopedic Surgery  |  Medical Director\, Wound Program  |  University of Texas Southwestern \nAlisha Oropallo\, M.D.\, FSVS\, FACS\, FABWMS  |  Professor\, Department of Surgery\, Hofstra University/Northwell  |  Director\, Comprehensive Wound Healing Center  |  Northwell Health \nDevinder Singh\, M.D.  |  Chief\, Professor\, and Program Director  |  Division of Plastic Surgery\, University of Miami Miller School of Medicine \nTarget audience: This activity is designed for physicians\, physician assistants\, nurses\, podiatrists\, and physical therapists. \nCLAIMING CREDIT\nThis on-demand webcast is available as a synchronized video with slides. To be eligible for documentation of credit\, participants must complete the educational activity\, complete the post-test with a score of 75% or better\, and complete the evaluation form. Upon completing the activity there will be instructions on how to print a certificate or other documentation of credit. \nRelease Date: June 7\, 2023\nExpiration Date: November 30\, 2024\nEstimated Time to Complete: 1 hour \nThere is no fee associated with this activity. \nCONTINUING EDUCATION  | In support of improving patient care\, HMP Education is jointly accredited by the Accreditation Council for Continuing Medical Education (ACCME)\, the Accreditation Council for Pharmacy Education (ACPE)\, and the American Nurses Credentialing Center (ANCC) to provide continuing education for the healthcare team. Note: This statement is not an indication of approved credits. Please see online at registration site for full accreditation details. \nHMP Education complies with the legal requirements of the American with Disabilities Act and the rules and regulations thereof. If any participant in this educational activity is in need of accommodations\, please call 609.371.1137. \nThis activity is supported by an educational grant from 3M Health Care\, Medical Solutions Division.* \nFor questions regarding this educational activity\, please call 609.371.1137. \n* NOTE: This is a contracted supplier and/or industry-sponsored webinar. HealthTrust has not approved and/or endorsed the content. This program may contain the mention of products\, services\, drugs or brands presented in a case study or comparative format. Such examples are intended for educational and informational purposes and should not be perceived as a HealthTrust endorsement of any particular supplier\, product\, service\, drug\, brand or approach.
URL:https://education.healthtrustpg.com/calendar/on-demand-program-head-to-toe-team-approach-to-wound-management-harnessing-innovations-in-negative-pressure-wound-therapy-2/2024-11-09/
CATEGORIES:Nursing,Other,Physicians,Podiatry
END:VEVENT
END:VCALENDAR