BEGIN:VCALENDAR
VERSION:2.0
PRODID:-//Healthtrust Education - ECPv6.15.18//NONSGML v1.0//EN
CALSCALE:GREGORIAN
METHOD:PUBLISH
X-WR-CALNAME:Healthtrust Education
X-ORIGINAL-URL:https://education.healthtrustpg.com
X-WR-CALDESC:Events for Healthtrust Education
REFRESH-INTERVAL;VALUE=DURATION:PT1H
X-Robots-Tag:noindex
X-PUBLISHED-TTL:PT1H
BEGIN:VTIMEZONE
TZID:America/Chicago
BEGIN:DAYLIGHT
TZOFFSETFROM:-0600
TZOFFSETTO:-0500
TZNAME:CDT
DTSTART:20230312T080000
END:DAYLIGHT
BEGIN:STANDARD
TZOFFSETFROM:-0500
TZOFFSETTO:-0600
TZNAME:CST
DTSTART:20231105T070000
END:STANDARD
BEGIN:DAYLIGHT
TZOFFSETFROM:-0600
TZOFFSETTO:-0500
TZNAME:CDT
DTSTART:20240310T080000
END:DAYLIGHT
BEGIN:STANDARD
TZOFFSETFROM:-0500
TZOFFSETTO:-0600
TZNAME:CST
DTSTART:20241103T070000
END:STANDARD
BEGIN:DAYLIGHT
TZOFFSETFROM:-0600
TZOFFSETTO:-0500
TZNAME:CDT
DTSTART:20250309T080000
END:DAYLIGHT
BEGIN:STANDARD
TZOFFSETFROM:-0500
TZOFFSETTO:-0600
TZNAME:CST
DTSTART:20251102T070000
END:STANDARD
END:VTIMEZONE
BEGIN:VEVENT
DTSTART;VALUE=DATE:20241106
DTEND;VALUE=DATE:20241107
DTSTAMP:20260420T171339
CREATED:20240909T184916Z
LAST-MODIFIED:20240909T185157Z
UID:10001537-1730851200-1730937599@education.healthtrustpg.com
SUMMARY:On-demand program: "Innovations in Negative Pressure Wound Therapy (NPWT): A Hands-On Skills Lab"
DESCRIPTION:Solventum\, Medical Surgical Business* and HMP Global Learning Network*  present…an on-demand program: “Innovations in Negative Pressure Wound Therapy (NPWT): A Hands-On Skills Lab” \nLearning Objectives  |  After participating in this activity\, learners should be better able to: \n\nReview the mechanism of action for NPWT\nExplore the economics and evolution of NPWT and innovations such as hybrid drapes and peel and place dressing technology\nInvestigate the new FDA indication and reimbursement for the use of NPWT for hydromechanical removal of infectious materials\, nonviable tissue and wound debris\nConsider the use of incision management dressings for managing and protecting surgical incisions\nExamine clinical decision making for NPWT and determine which dressings to use and when\nApply new therapy application tips toward the use of NPWT with instillation\, incision management and hybrid drapes\n\nPresenters: \n\nKara Couch\, MS\, CRNP\, CWCN-AP\, FAAWC  |  Nurse Practitioner  |  George Washington University Hospital  |  Washington\, DC\nElizabeth Faust\, MSN\, CRNP  |  Nurse Practitioner  |  Lizzie Wounds LLC\nMichael N. Desvigne\, M.D.\, FACS\, CWS\, FACCWS  |  Abrazo Arrowhead Hospital & Wound Clinic  |   Private Practice  |   Glendale\, Arizona\nDevinder Singh\, M.D.  |  Chief\, Professor\, and Program Director  |  Division of Plastic Surgery\, University of Miami Miller School of Medicine\n\nTarget audience: This activity is designed for physicians\, nursing professionals\, physical therapists\, researchers\, scientists\, podiatrists\, and dietitians across all practice settings involved in wound healing or wound care issues. \nCLAIMING CREDIT  |  This on-demand webcast is available as a synchronized video with slides. To be eligible for credit\, participants must complete the educational activity\, complete the 4-question post-test with a minimum score of 75%\, and complete the activity evaluation form. After the activity\, participants will receive instructions for completing the evaluation and printing a certificate or other documentation of credit. \nRelease Date: June 14\, 2024\nExpiration Date: November 30\, 2025\nEstimated Time to Complete: 1.5 hours \nThere is no fee associated with this activity. \nIf you have questions regarding this educational activity\, please visit hmpedu.zendesk.com to submit a request to the support team. \nCONTINUING EDUCATION WITH COMMENDATION\nIn support of improving patient care\, HMP Education is jointly accredited by the Accreditation Council for Continuing Medical Education (ACCME)\, the Accreditation Council for Pharmacy Education (ACPE)\, and the American Nurses Credentialing Center (ANCC) to provide continuing education for the healthcare team. Note: This statement is not an indication of approved credits. Please see website for full accreditation details\, including credit types and totals\, for this activity. \nSupported by an educational grant from Solventum\, Medical Surgical Business. Provided by HMP Education\, an HMP Global Company. . \n* NOTE: This is a contracted supplier and/or industry-sponsored webinar. HealthTrust has not approved and/or endorsed the content. This program may contain the mention of products\, services\, drugs or brands presented in a case study or comparative format. Such examples are intended for educational and informational purposes and should not be perceived as a HealthTrust endorsement of any particular supplier\, product\, service\, drug\, brand or approach.
URL:https://education.healthtrustpg.com/calendar/on-demand-program-innovations-in-negative-pressure-wound-therapy-npwt-a-hands-on-skills-lab/2024-11-06/
CATEGORIES:Food & Nutrition,Nursing,Other,Physicians,Podiatry
END:VEVENT
BEGIN:VEVENT
DTSTART;TZID=America/Chicago:20241106T120000
DTEND;TZID=America/Chicago:20241106T130000
DTSTAMP:20260420T171339
CREATED:20240913T183946Z
LAST-MODIFIED:20250311T211651Z
UID:10001556-1730894400-1730898000@education.healthtrustpg.com
SUMMARY:"Detrimental Effects of Early Epinephrine Administration Prior to Defibrillation in Cardiac Arrest with Shockable Rhythm"
DESCRIPTION:HealthTrust presents…“Detrimental Effects of Early Epinephrine Administration Prior to Defibrillation in Cardiac Arrest with Shockable Rhythm” \n \nDownload session content \nPlease Note: Continuing education credit is only available to those attending the session live. CE credit is not available when accessing the program on demand. \nEpinephrine is the recommended vasopressor in cardiac arrest guidelines. However\, the timing of epinephrine administration differs in shockable and non-shockable rhythm. Premature epinephrine administration in cardiac arrest with shockable rhythm is associated with less favorable patient outcomes and prolonged defibrillation. Cardiac life support guidelines emphasize early defibrillation in combination with high quality CPR for patients in cardiac arrest with shockable rhythm. \nLearning Objectives for Pharmacists & Nurses  |  At the end of this session\, participants should be able to: \n\nRecall clinical guideline recommendations for appropriate timing of epinephrine administration during in hospital cardiac arrest (IHCA)\nIdentify the impact of epinephrine administration in IHCA with shockable rhythm on patient outcomes\nRecognize the rationale for higher rates of patient survival with early defibrillation in shockable rhythm\n\nLearning Objectives for Pharmacist Techs  |  At the end of this session\, participants should be able to: \n\nRecall the most appropriate initial action of finding a patient with signs and symptoms consistent with ICHA\nIdentify common medication used during in hospital cardiac arrest (IHCA)\nRecognize appropriate preparations and routes of administration of epinephrine for patients with IHCA\n\nPresenter: \n \nKatherine Snider\, PharmD  |  PGY-1 Pharmacy Resident  |  Mercy Hospital Northwest Arkansas \nTarget Audience:  Pharmacists\, Pharmacy Techs\, Nurses\, Physicians\, Healthcare Executives \nCE Credit: Approved for Pharmacists\, Pharmacy Techs\, Nurses & Healthcare Executives \nThis program is approved for CPEs by the Accreditation Council for Pharmacy Education (ACPE). Attendees of this program may earn 1.0 CPE Contact Hours. Belmont University College of Pharmacy is accredited by the Accreditation Council for Pharmacy Education as a provider of continuing pharmacy education. The Universal Activity Numbers for this activity are 0863-9999-24-111-L01-P and 0863-9999-24-111-L01-T. The activity is approved for 1 hour (.1 CEUs) of continuing education credit for Pharmacists\, Pharmacy Techs\, Nurses & Healthcare Executives who attend the webinar and complete the online evaluation. Pfiedler Education is a division of AORN\, provider approved by the California Board of Registered Nursing\, Provider Number CEP13019\, for 1 contact hour. 1.0 contact hours approved for Nurses. \nNote about CE credit: If you plan to obtain credit for a live session\, stay until the end of the presentation to receive the verification code you will need to obtain the continuing education credit. CE credit is individual. No group credit is available. Each person must register for a webinar and attend the webinar in its entirety in order to receive an email after the event with instructions on how to apply for continuing education credit. Attendees should not share the code or forward the email to others who did not actually attend the program. If they are not able to be verified on our webinar provider reports and registration list they will not receive credit. If you are joining only by phone\, you will not be eligible for credit. You must also log in and join the visual portion of the webinar to be part of our CE provider-required reporting. \n 
URL:https://education.healthtrustpg.com/calendar/detrimental-effects-of-early-epinephrine-administration-prior-to-defibrillation-in-cardiac-arrest-with-shockable-rhythm/
CATEGORIES:Nursing,Pharmacy,Physicians
END:VEVENT
END:VCALENDAR