BEGIN:VCALENDAR
VERSION:2.0
PRODID:-//Healthtrust Education - ECPv6.15.18//NONSGML v1.0//EN
CALSCALE:GREGORIAN
METHOD:PUBLISH
X-ORIGINAL-URL:https://education.healthtrustpg.com
X-WR-CALDESC:Events for Healthtrust Education
REFRESH-INTERVAL;VALUE=DURATION:PT1H
X-Robots-Tag:noindex
X-PUBLISHED-TTL:PT1H
BEGIN:VTIMEZONE
TZID:America/Chicago
BEGIN:DAYLIGHT
TZOFFSETFROM:-0600
TZOFFSETTO:-0500
TZNAME:CDT
DTSTART:20230312T080000
END:DAYLIGHT
BEGIN:STANDARD
TZOFFSETFROM:-0500
TZOFFSETTO:-0600
TZNAME:CST
DTSTART:20231105T070000
END:STANDARD
BEGIN:DAYLIGHT
TZOFFSETFROM:-0600
TZOFFSETTO:-0500
TZNAME:CDT
DTSTART:20240310T080000
END:DAYLIGHT
BEGIN:STANDARD
TZOFFSETFROM:-0500
TZOFFSETTO:-0600
TZNAME:CST
DTSTART:20241103T070000
END:STANDARD
BEGIN:DAYLIGHT
TZOFFSETFROM:-0600
TZOFFSETTO:-0500
TZNAME:CDT
DTSTART:20250309T080000
END:DAYLIGHT
BEGIN:STANDARD
TZOFFSETFROM:-0500
TZOFFSETTO:-0600
TZNAME:CST
DTSTART:20251102T070000
END:STANDARD
END:VTIMEZONE
BEGIN:VEVENT
DTSTART;VALUE=DATE:20240909
DTEND;VALUE=DATE:20240911
DTSTAMP:20260420T113821
CREATED:20210821T150805Z
LAST-MODIFIED:20210821T150930Z
UID:10000972-1725840000-1726012799@education.healthtrustpg.com
SUMMARY:"COVID-19 Webcast Series"
DESCRIPTION:The Society of Critical Care Medicine* presents…”COVID-19 Webcast Series” \nThe Society of Critical Care Medicine’s COVID-19 webcast series addresses clinical issues and questions related to the pandemic. The site offers a number of other important resources\, including on-demand and live webinars related to COVID-19. \nAccess the on-demand webcasts here \nOn-demand topics include: \n\nCoping with Uncertainty: What to Do When You Don’t Know What’s Next\nManaging Nutrition Support for Critically Ill COVID-19 Patients\nCritical Care for Non-ICU Clinicians: Oxygen Supplementation Strategies and Deciding When to Intubate and Extubate\nIntegrating Critical Care Pharmacists into Safe and Effective Care Delivery in the SARS-CoV-2 Pandemic\nFamily-Centered Care in the Age of Visitor Restrictions\nCOVID-19 Q&A Call (Webcast 3)\nCOVID-19 Clinical Perspectives: From The Frontline\nCritical Care for Non-ICU Clinicians Expert Panel Series\nCOVID-19: What Do We Not Yet Know That We Need To Understand\nCOVID-19 Q&A Call (Webcast 2)\nManaging Your Mental Health During the COVID-19 Pandemic\nCOVID-19 What We Learned from the Outbreak in Wuhan\nCOVID-19 Q&A Call (Webcast 1)\nSurviving Sepsis Campaign: Guidelines on the Management of Critically Ill Adults with Coronavirus Disease 2019\nScaled Pandemic Preparedness: From Large Medical Center to Community Hospital – What Do You Need To Do?\nChina/U.S. Panel Discussion on COVID-19\n\nLIVE WEBINAR: \nThe next live webinar is “Critical Care for the Non-ICU Clinician” Sept. 8 from 5-6PM. Register here. Summary: As the COVID-19 pandemic spreads\, the number of critically ill patients is expected to surge in hospitals across the United States. This may result in non-ICU clinicians being needed to care for critically ill patients. SCCM’s Critical Care for the Non-ICU Clinician provides online education to healthcare professionals who may benefit from critical care training. Be prepared with this free resource. \nIf you are having trouble playing modules on a mobile device\, download the Articulate Mobile App available in iTunes or Google Play. Or\, use a desktop web browser. \nQuestions? Contact The Society of Critical Care Medicine at support@sccm.org  \n* NOTE: These are industry-sponsored resources. HealthTrust has not approved and/or endorsed the content. This programs may contain the mention of products\, services\, drugs or brands presented in a case study or comparative format. Such examples are intended for educational and informational purposes and should not be perceived as a HealthTrust endorsement of any particular supplier\, product\, service\, drug\, brand or approach. \n 
URL:https://education.healthtrustpg.com/calendar/covid-19-webcast-series/2024-09-09/
CATEGORIES:Nursing,Other
END:VEVENT
BEGIN:VEVENT
DTSTART;VALUE=DATE:20240910
DTEND;VALUE=DATE:20240911
DTSTAMP:20260420T113821
CREATED:20230510T161906Z
LAST-MODIFIED:20240909T183104Z
UID:10003551-1725926400-1726012799@education.healthtrustpg.com
SUMMARY:On-Demand Program:  "Leveraging Collagen with Oxidized Regenerated Cellulose (ORC) & Silver & NPWT"
DESCRIPTION:3M* Health Care & HMP Education* present an…On-demand program: “Leveraging Collagen with Oxidized Regenerated Cellulose (ORC) & Silver & NPWT” \nLearning Objectives  |  After participating in this activity\, learners should be better able to: \n\n\n\n\nExamine the clinical impact of Collagen with Oxidized Regenerated Cellulose (ORC) and Silver in the wound environment\nExplain the clinical significance of negative pressure wound therapy\nDetermine when to use Collagen with Oxidized Regenerated Cellulose (ORC) and Silver Dressings and NPWT and who to use it on\nExamine\, via cases\, the clinical outcomes from combining Collagen with Oxidized Regenerated Cellulose (ORC) and Silver with NPWT\n\nPresenters: \n\n \nDot Weir\, RN\, CWON\, CWS  |  Clinical Staff  | Saratoga Hospital Center for Wound Healing & Hyperbaric Medicine  | Saratoga Springs\, NY \n \nMichael N. Desvigne\, M.D.\, FACS\, CWS\, FACCWS  |  Abrazo Arrowhead Hospital & Wound Clinic  |   Private Practice  |   Glendale\, Arizona \nTarget Audience/Intended Learners: This activity is designed for physicians\, nurses\, nurse practitioners\, physician assistants and podiatrists across all practice settings involved in the prevention\, treatment\, and management of patients with wounds. \nContinuing Education: In support of improving patient care\, HMP Education is jointly accredited by the Accreditation Council for Continuing Medical Education (ACCME)\, the Accreditation Council for Pharmacy Education (ACPE)\, and the American Nurses Credentialing Center (ANCC)\, to provide continuing education for the healthcare team. Note: This statement is not an indication of approved credits. Please visit the accreditation page for full accreditation details\, including credit types and totals\, for this activity. PODIATRY:  HMP Education is approved by the Council on Podiatric Medical Education as a provider of continuing education in podiatric medicine. HMP Education has approved this internet enduring activity for a maximum of 1.00 continuing education contact hours. \nClaiming Credit: \nThis on-demand webcast is available as a synchronized video with slides.\nTo be eligible for credit\, participants must complete the activity and the evaluation. Upon completing the activity\, there will be instructions on how to print a certificate or other documentation of credit. \nRelease Date: May 5\, 2023\nExpiration Date: November 30\, 2024\nEstimated Time to Complete: 1.00 hour \nThere is no fee associated with this activity. \nProvided by HMP Education\, an HMP Global Company. Supported by an educational grant from 3M Health Care*\, Medical Solutions Division \nQuestions should be directed to: call 609-371-1137 or email accreditation@hmpglobal.com \n* NOTE: This is an industry resource and/or contracted supplier-sponsored webinar. HealthTrust has not approved and/or endorsed the content. This program may contain the mention of products\, services\, drugs or brands presented in a case study or comparative format. Such examples are intended for educational and informational purposes and should not be perceived as a HealthTrust endorsement of any particular supplier\, product\, service\, drug\, brand or approach.
URL:https://education.healthtrustpg.com/calendar/leveraging-collagen-with-oxidized-regenerated-cellulose-orc-silver-npwt/2024-09-10/
CATEGORIES:Nursing,Pharmacy,Physicians,Podiatry
END:VEVENT
BEGIN:VEVENT
DTSTART;VALUE=DATE:20240910
DTEND;VALUE=DATE:20240911
DTSTAMP:20260420T113821
CREATED:20240906T212526Z
LAST-MODIFIED:20240919T130256Z
UID:10001525-1725926400-1726012799@education.healthtrustpg.com
SUMMARY:On Demand Program:  "Transforming Skin Integrity: Managing MASD\, IAD & Other Skin Injuries with Scientific-based Strategies"
DESCRIPTION:3M Health Care\,* Center for Healing Solutions* and HMP Education  present an On-demand program\, “Transforming Skin Integrity: Managing MASD\, IAD & Other Skin Injuries with Scientific-based Strategies” \nLearning Objectives  |  After participating in this activity\, learners should be better able to: \n\n\n\n\n\n\n\n\nRecognize the critical importance of maintaining skin integrity for clinical outcomes and cost of care\nDefine the various types of skin injuries (MASD\, MARSI\, pressure injuries)\nExamine versatile solutions to manage and prevent skin breakdown\nExplore\, via illustrative case studies\, a skin integrity pathway to optimize skin protection outcomes\n\nPresenters: \nKara Couch\, MS\, CRNP\, CWCN-AP\, FAAWC  |  Nurse Practitioner  |  George Washington University Hospital  |  Arlington\, VA \nLaurie McNichol\, MSN\, RN\, CNS\, GNP\, CWOCN\, CWON-AP\, FAAN  |  Clinical Nurse Specialist/WOC Nurse  |  Cone Health  |  Greensboro\, NC \nCatherine Milne\, APRN\, MSN\, ANP/ACNS-BC\, CWOCN-AP  |  Advanced Practice WOC Nurse  |  Connecticut Clinical Nursing Associates\, LLC  |  Bristol\, CT \nTarget Audience:  This activity is designed for physicians\, nursing professionals\, physical therapists\, researchers\, scientists\, podiatrists\, and dietitians across all practice settings involved in wound healing or wound care issues. \nContinuing Education:  In support of improving patient care\, HMP Education is jointly accredited by the Accreditation Council for Continuing Medical Education (ACCME)\, the Accreditation Council for Pharmacy Education (ACPE)\, and the American Nurses Credentialing Center (ANCC) to provide continuing education for the healthcare team. \nSupported by an educational grant from 3M Health Care*\, Medical Solutions Division \nThis on-demand webcast is available as a synchronized video with slides. To be eligible for credit\, participants must complete the educational activity\, complete the four-question post-test with a minimum score of 75%\, and complete the activity evaluation form. Upon completing the activity\, there will be instructions on how to complete the evaluation and print a certificate or other documentation of credit. \nRelease Date: December 5\, 2023\nExpiration Date: November 30\, 2024\nEstimated Time to Complete: 1 hour \nThere is no fee associated with this activity.\nFor questions regarding this educational activity\, please call 609.371.1137. \n* NOTE: This is a supplier and/or industry resource-sponsored webinar. HealthTrust has not approved and/or endorsed the content. This program may contain the mention of products\, services\, drugs or brands presented in a case study or comparative format. Such examples are intended for educational and informational purposes and should not be perceived as a HealthTrust endorsement of any particular supplier\, product\, service\, drug\, brand or approach.
URL:https://education.healthtrustpg.com/calendar/on-demand-program-transforming-skin-integrity-managing-masd-iad-other-skin-injuries-with-scientific-based-strategies/2024-09-10/
CATEGORIES:Nursing,Pharmacy,Physicians,Podiatry
END:VEVENT
BEGIN:VEVENT
DTSTART;TZID=America/Chicago:20240910T073000
DTEND;TZID=America/Chicago:20240910T114500
DTSTAMP:20260420T113821
CREATED:20240904T183356Z
LAST-MODIFIED:20240904T183801Z
UID:10001563-1725953400-1725968700@education.healthtrustpg.com
SUMMARY:"Confronting Challenges in Perinatal & Neonatal Care"
DESCRIPTION:Abbott Nutrition* Health Institute (ANHI) presents...”Confronting Challenges in Perinatal & Neonatal Care” \nLearning Objectives  |  At the end of this session\, participants should be able to: \n\nDefine the types of perinatal anxiety disorders and identify treatment options.\nDescribe the essential elements of a post discharge feeding plan in the term\, late preterm and preterm infant.\nDiscuss the unique dynamics present within diverse family structures especially those with substance use disorder\, perinatal and child mental health needs and LGBTQ+ families.\n\nPresenters: \n \nBonnie Gahn\, MSN\, MA\, APRN  |  Educational Consultant  |  ANHI \n \nSharon Groh-Wargo\, PhD\, RD  |  Neonatal Dietitian  | Nationally known author\, speaker & researcher \n \nElizabeth Hutson\, PhD\, APRN\, PMHNP  |  Associate Professor & Program Director  |  Psychiatric Mental Health Nurse Practitioner Program  |  Texas Tech University Health Sciences Center \nContinuing Education:  Abbott Nutrition Health Institute is an approved provider of continuing nursing education by the California Board of Registered Nursing Provider #CEP 11213. *The CPE activity is pending CDR review and approval for 4 CPEUs. Continuing Professional Education Provider Accreditation does not constitute endorsement by CDR of a provider\, program or materials. If you have questions or concerns about an ANHI program meeting accreditation standards\, please contact us or provide feedback to CDR: QualityCPE@eatright.org. \nQuestions?: Contact Julia O’Brien  |  julia.obrien@abbott.com or Jonathan Minnaert  |  jonathan.minnaert@abbott.com. For registration questions\, contact Eat Well Global\, anhiwebinars@eatwellglobal.com \n*NOTE: This is an industry resource and/or supplier-sponsored webinar. HealthTrust has not approved and/or endorsed the content. This program may contain the mention of products\, services\, drugs or brands presented in a case study or comparative format. Such examples are intended for educational and informational purposes and should not be perceived as a HealthTrust endorsement of any particular supplier\, product\, service\, drug\, brand or approach. \n  \n 
URL:https://education.healthtrustpg.com/calendar/confronting-challenges-in-perinatal-neonatal-care/
CATEGORIES:Food & Nutrition,Nursing
END:VEVENT
END:VCALENDAR