BEGIN:VCALENDAR
VERSION:2.0
PRODID:-//Healthtrust Education - ECPv6.15.18//NONSGML v1.0//EN
CALSCALE:GREGORIAN
METHOD:PUBLISH
X-ORIGINAL-URL:https://education.healthtrustpg.com
X-WR-CALDESC:Events for Healthtrust Education
REFRESH-INTERVAL;VALUE=DURATION:PT1H
X-Robots-Tag:noindex
X-PUBLISHED-TTL:PT1H
BEGIN:VTIMEZONE
TZID:UTC
BEGIN:STANDARD
TZOFFSETFROM:+0000
TZOFFSETTO:+0000
TZNAME:UTC
DTSTART:20230101T000000
END:STANDARD
END:VTIMEZONE
BEGIN:VTIMEZONE
TZID:America/Chicago
BEGIN:DAYLIGHT
TZOFFSETFROM:-0600
TZOFFSETTO:-0500
TZNAME:CDT
DTSTART:20230312T080000
END:DAYLIGHT
BEGIN:STANDARD
TZOFFSETFROM:-0500
TZOFFSETTO:-0600
TZNAME:CST
DTSTART:20231105T070000
END:STANDARD
BEGIN:DAYLIGHT
TZOFFSETFROM:-0600
TZOFFSETTO:-0500
TZNAME:CDT
DTSTART:20240310T080000
END:DAYLIGHT
BEGIN:STANDARD
TZOFFSETFROM:-0500
TZOFFSETTO:-0600
TZNAME:CST
DTSTART:20241103T070000
END:STANDARD
BEGIN:DAYLIGHT
TZOFFSETFROM:-0600
TZOFFSETTO:-0500
TZNAME:CDT
DTSTART:20250309T080000
END:DAYLIGHT
BEGIN:STANDARD
TZOFFSETFROM:-0500
TZOFFSETTO:-0600
TZNAME:CST
DTSTART:20251102T070000
END:STANDARD
END:VTIMEZONE
BEGIN:VEVENT
DTSTART;VALUE=DATE:20240810
DTEND;VALUE=DATE:20240811
DTSTAMP:20260420T094025
CREATED:20191004T210019Z
LAST-MODIFIED:20241105T142537Z
UID:10002012-1723248000-1723334399@education.healthtrustpg.com
SUMMARY:On-demand Programs: "Why Wound Care?" for Practicing Clinicians
DESCRIPTION:HMP* presents 40…“Why Wound Care?” on-demand programs for Practicing Clinicians \n\n\n6.5 million U.S. patients are affected by non-healing wounds each year. With our aging population and the increase in diabetes and obesity these numbers will continue to rise. The need for specialized wound care clinicians has never been greater. \n\n\nOver 40 presentations on key wound care topics were developed by leading educators within this field as a way to encourage students and clinicians to consider a career as a wound care specialist. Check out the “Why Wound Care?” website and learn more for free. \nMission  |  To inform practicing clinicians from multiple clinical specialties about rewarding careers in wound care. \nVision  |  To increase the number of practicing clinicians pursuing a specialized wound care career to enhance safe\, effective care for people with\, or at risk for\, wounds. \nGoals  |  to provide practicing clinicians with: \n\n\n\n\n\n\n\n\n\n\n\n\n\n\n\n\n\n\n\n\nAccess to a wide variety of complimentary wound care educational-resources\nEvidence-based content for integrating wound management and prevention concepts into their practice\nInformation about the market needs and career opportunities within the field of wound care\n\n\n\n\n\n\n\n\n\n\n\n\n\n\n\n\n\n\n\n\nTarget audience: These presentations are designed for practicing clinicians involved in the treatment of patients with chronic wounds. \nThere is no CE credit associated with these programs. \nQuestions should be directed to HMP at: 800.237.7285. HMP (Healthcare Made Practical) educates and informs the global healthcare community. Through live meetings\, medical journals\, and digital networks\, its mission is to improve patient care. \n* NOTE: This is industry resource-sponsored content. HealthTrust has not approved and/or endorsed the content. The presentations may contain the mention of products\, services\, drugs or brands presented in a case study or comparative format. Such examples are intended for educational and informational purposes and should not be perceived as a HealthTrust endorsement of any particular supplier\, product\, service\, drug\, brand or approach.
URL:https://education.healthtrustpg.com/calendar/why-wound-care-on-demand-programs-for-practicing-clinicians/2024-08-10/
CATEGORIES:Nursing,Physicians
END:VEVENT
BEGIN:VEVENT
DTSTART;VALUE=DATE:20240810
DTEND;VALUE=DATE:20240811
DTSTAMP:20260420T094025
CREATED:20230510T161906Z
LAST-MODIFIED:20240909T183104Z
UID:10003550-1723248000-1723334399@education.healthtrustpg.com
SUMMARY:On-Demand Program:  "Leveraging Collagen with Oxidized Regenerated Cellulose (ORC) & Silver & NPWT"
DESCRIPTION:3M* Health Care & HMP Education* present an…On-demand program: “Leveraging Collagen with Oxidized Regenerated Cellulose (ORC) & Silver & NPWT” \nLearning Objectives  |  After participating in this activity\, learners should be better able to: \n\n\n\n\nExamine the clinical impact of Collagen with Oxidized Regenerated Cellulose (ORC) and Silver in the wound environment\nExplain the clinical significance of negative pressure wound therapy\nDetermine when to use Collagen with Oxidized Regenerated Cellulose (ORC) and Silver Dressings and NPWT and who to use it on\nExamine\, via cases\, the clinical outcomes from combining Collagen with Oxidized Regenerated Cellulose (ORC) and Silver with NPWT\n\nPresenters: \n\n \nDot Weir\, RN\, CWON\, CWS  |  Clinical Staff  | Saratoga Hospital Center for Wound Healing & Hyperbaric Medicine  | Saratoga Springs\, NY \n \nMichael N. Desvigne\, M.D.\, FACS\, CWS\, FACCWS  |  Abrazo Arrowhead Hospital & Wound Clinic  |   Private Practice  |   Glendale\, Arizona \nTarget Audience/Intended Learners: This activity is designed for physicians\, nurses\, nurse practitioners\, physician assistants and podiatrists across all practice settings involved in the prevention\, treatment\, and management of patients with wounds. \nContinuing Education: In support of improving patient care\, HMP Education is jointly accredited by the Accreditation Council for Continuing Medical Education (ACCME)\, the Accreditation Council for Pharmacy Education (ACPE)\, and the American Nurses Credentialing Center (ANCC)\, to provide continuing education for the healthcare team. Note: This statement is not an indication of approved credits. Please visit the accreditation page for full accreditation details\, including credit types and totals\, for this activity. PODIATRY:  HMP Education is approved by the Council on Podiatric Medical Education as a provider of continuing education in podiatric medicine. HMP Education has approved this internet enduring activity for a maximum of 1.00 continuing education contact hours. \nClaiming Credit: \nThis on-demand webcast is available as a synchronized video with slides.\nTo be eligible for credit\, participants must complete the activity and the evaluation. Upon completing the activity\, there will be instructions on how to print a certificate or other documentation of credit. \nRelease Date: May 5\, 2023\nExpiration Date: November 30\, 2024\nEstimated Time to Complete: 1.00 hour \nThere is no fee associated with this activity. \nProvided by HMP Education\, an HMP Global Company. Supported by an educational grant from 3M Health Care*\, Medical Solutions Division \nQuestions should be directed to: call 609-371-1137 or email accreditation@hmpglobal.com \n* NOTE: This is an industry resource and/or contracted supplier-sponsored webinar. HealthTrust has not approved and/or endorsed the content. This program may contain the mention of products\, services\, drugs or brands presented in a case study or comparative format. Such examples are intended for educational and informational purposes and should not be perceived as a HealthTrust endorsement of any particular supplier\, product\, service\, drug\, brand or approach.
URL:https://education.healthtrustpg.com/calendar/leveraging-collagen-with-oxidized-regenerated-cellulose-orc-silver-npwt/2024-08-10/
CATEGORIES:Nursing,Pharmacy,Physicians,Podiatry
END:VEVENT
END:VCALENDAR