BEGIN:VCALENDAR
VERSION:2.0
PRODID:-//Healthtrust Education - ECPv6.15.20//NONSGML v1.0//EN
CALSCALE:GREGORIAN
METHOD:PUBLISH
X-ORIGINAL-URL:https://education.healthtrustpg.com
X-WR-CALDESC:Events for Healthtrust Education
REFRESH-INTERVAL;VALUE=DURATION:PT1H
X-Robots-Tag:noindex
X-PUBLISHED-TTL:PT1H
BEGIN:VTIMEZONE
TZID:America/Chicago
BEGIN:DAYLIGHT
TZOFFSETFROM:-0600
TZOFFSETTO:-0500
TZNAME:CDT
DTSTART:20230312T080000
END:DAYLIGHT
BEGIN:STANDARD
TZOFFSETFROM:-0500
TZOFFSETTO:-0600
TZNAME:CST
DTSTART:20231105T070000
END:STANDARD
BEGIN:DAYLIGHT
TZOFFSETFROM:-0600
TZOFFSETTO:-0500
TZNAME:CDT
DTSTART:20240310T080000
END:DAYLIGHT
BEGIN:STANDARD
TZOFFSETFROM:-0500
TZOFFSETTO:-0600
TZNAME:CST
DTSTART:20241103T070000
END:STANDARD
BEGIN:DAYLIGHT
TZOFFSETFROM:-0600
TZOFFSETTO:-0500
TZNAME:CDT
DTSTART:20250309T080000
END:DAYLIGHT
BEGIN:STANDARD
TZOFFSETFROM:-0500
TZOFFSETTO:-0600
TZNAME:CST
DTSTART:20251102T070000
END:STANDARD
END:VTIMEZONE
BEGIN:VEVENT
DTSTART;VALUE=DATE:20240405
DTEND;VALUE=DATE:20240406
DTSTAMP:20260424T091721
CREATED:20230405T145501Z
LAST-MODIFIED:20230405T145501Z
UID:10003524-1712275200-1712361599@education.healthtrustpg.com
SUMMARY:"Preventing Bloodstream Infections in the Vascular Access Patient:  Addressing Intraluminal and Extraluminal VAD Contamination"
DESCRIPTION:HMP Global and 3M Health Care*\, Medical Solutions Division present…“Preventing Bloodstream Infections in the Vascular Access Patient: Addressing Intraluminal and Extraluminal VAD Contamination” \nLearning Objectives  |  At the end of this session\, participants should be able to: \n\nIdentify various sources of contamination that increase risks leading to catheter bloodstream infection\nExplore clinical challenges associated with VAD maintenance that can impact outcomes\nReview the recommended guidelines\, practices and evidence-based interventions for VAD maintenance to aid with the reduction of BSI risk\nIdentify strategies for prevention of VA related bloodstream infection in patients\n\nPresenters: \n \nMax Holder\, MSN\, RN\, CRNI\, NE-BC\, VA\, BC  |  Baylor University Medical Center  |  Dallas\, Texas \n \nKaren Laforet\, RN\, MCLSC\, CCHN(C)\, VA-BC\, CVAA(C)  |  Senior Clinical Consultant  |  LK Professional Consulting Group  |  London\, Ontario Canada \nTarget Audience:  This activity is designed for vascular access nurses\, infection preventionists and any\nother healthcare professional involved in the prevention of blood stream infections. \nContinuing Education:  In support of improving patient care\, HMP Education is jointly accredited by the Accreditation Council for Continuing Medical Education (ACCME)\, the Accreditation Council for Pharmacy Education (ACPE)\, and the American Nurses Credentialing Center (ANCC) to provide continuing education for the healthcare team.\nNote: This statement is not an indication of approved credits. Please visit the accreditation page for full accreditation details\, including credit types and totals\,\nfor this activity. PODIATRY: HMP Education is approved by the Council on Podiatric Medical Education as a provider of continuing education in podiatric medicine. HMP Education has approved this internet enduring activity for a maximum of 1.00 continuing education contact hours. \nThis on-demand webcast is available as a synchronized video with slides. To be eligible for credit\, participants must complete the activity and the evaluation. Upon completing the activity\, there will be instructions on how to print a certificate or other documentation of credit. There is no fee associated with this activity. \nRelease Date: March 31\, 2023\nExpiration Date: November 30\, 2024\nEstimated Time to Complete: 1.00 hour \nQuestions?: For questions regarding this educational activity\, please call 609-371-1137. \n* NOTE: This is a contracted supplier and/or industry-sponsored webinar. HealthTrust has not approved and/or endorsed the content. This program may contain the mention of products\, services\, drugs or brands presented in a case study or comparative format. Such examples are intended for educational and informational purposes and should not be perceived as a HealthTrust endorsement of any particular supplier\, product\, service\, drug\, brand or approach. \n  \n 
URL:https://education.healthtrustpg.com/calendar/preventing-bloodstream-infections-in-the-vascular-access-patient-addressing-intraluminal-and-extraluminal-vad-contamination/2024-04-05/
CATEGORIES:Hematology,Nursing,Pharmacy,Physicians,Podiatry
END:VEVENT
END:VCALENDAR