BEGIN:VCALENDAR
VERSION:2.0
PRODID:-//Healthtrust Education - ECPv6.15.18//NONSGML v1.0//EN
CALSCALE:GREGORIAN
METHOD:PUBLISH
X-WR-CALNAME:Healthtrust Education
X-ORIGINAL-URL:https://education.healthtrustpg.com
X-WR-CALDESC:Events for Healthtrust Education
REFRESH-INTERVAL;VALUE=DURATION:PT1H
X-Robots-Tag:noindex
X-PUBLISHED-TTL:PT1H
BEGIN:VTIMEZONE
TZID:America/Chicago
BEGIN:DAYLIGHT
TZOFFSETFROM:-0600
TZOFFSETTO:-0500
TZNAME:CDT
DTSTART:20220313T080000
END:DAYLIGHT
BEGIN:STANDARD
TZOFFSETFROM:-0500
TZOFFSETTO:-0600
TZNAME:CST
DTSTART:20221106T070000
END:STANDARD
BEGIN:DAYLIGHT
TZOFFSETFROM:-0600
TZOFFSETTO:-0500
TZNAME:CDT
DTSTART:20230312T080000
END:DAYLIGHT
BEGIN:STANDARD
TZOFFSETFROM:-0500
TZOFFSETTO:-0600
TZNAME:CST
DTSTART:20231105T070000
END:STANDARD
BEGIN:DAYLIGHT
TZOFFSETFROM:-0600
TZOFFSETTO:-0500
TZNAME:CDT
DTSTART:20240310T080000
END:DAYLIGHT
BEGIN:STANDARD
TZOFFSETFROM:-0500
TZOFFSETTO:-0600
TZNAME:CST
DTSTART:20241103T070000
END:STANDARD
END:VTIMEZONE
BEGIN:VEVENT
DTSTART;VALUE=DATE:20231127
DTEND;VALUE=DATE:20231129
DTSTAMP:20260421T045450
CREATED:20210821T150805Z
LAST-MODIFIED:20210821T150930Z
UID:10000931-1701043200-1701215999@education.healthtrustpg.com
SUMMARY:"COVID-19 Webcast Series"
DESCRIPTION:The Society of Critical Care Medicine* presents…”COVID-19 Webcast Series” \nThe Society of Critical Care Medicine’s COVID-19 webcast series addresses clinical issues and questions related to the pandemic. The site offers a number of other important resources\, including on-demand and live webinars related to COVID-19. \nAccess the on-demand webcasts here \nOn-demand topics include: \n\nCoping with Uncertainty: What to Do When You Don’t Know What’s Next\nManaging Nutrition Support for Critically Ill COVID-19 Patients\nCritical Care for Non-ICU Clinicians: Oxygen Supplementation Strategies and Deciding When to Intubate and Extubate\nIntegrating Critical Care Pharmacists into Safe and Effective Care Delivery in the SARS-CoV-2 Pandemic\nFamily-Centered Care in the Age of Visitor Restrictions\nCOVID-19 Q&A Call (Webcast 3)\nCOVID-19 Clinical Perspectives: From The Frontline\nCritical Care for Non-ICU Clinicians Expert Panel Series\nCOVID-19: What Do We Not Yet Know That We Need To Understand\nCOVID-19 Q&A Call (Webcast 2)\nManaging Your Mental Health During the COVID-19 Pandemic\nCOVID-19 What We Learned from the Outbreak in Wuhan\nCOVID-19 Q&A Call (Webcast 1)\nSurviving Sepsis Campaign: Guidelines on the Management of Critically Ill Adults with Coronavirus Disease 2019\nScaled Pandemic Preparedness: From Large Medical Center to Community Hospital – What Do You Need To Do?\nChina/U.S. Panel Discussion on COVID-19\n\nLIVE WEBINAR: \nThe next live webinar is “Critical Care for the Non-ICU Clinician” Sept. 8 from 5-6PM. Register here. Summary: As the COVID-19 pandemic spreads\, the number of critically ill patients is expected to surge in hospitals across the United States. This may result in non-ICU clinicians being needed to care for critically ill patients. SCCM’s Critical Care for the Non-ICU Clinician provides online education to healthcare professionals who may benefit from critical care training. Be prepared with this free resource. \nIf you are having trouble playing modules on a mobile device\, download the Articulate Mobile App available in iTunes or Google Play. Or\, use a desktop web browser. \nQuestions? Contact The Society of Critical Care Medicine at support@sccm.org  \n* NOTE: These are industry-sponsored resources. HealthTrust has not approved and/or endorsed the content. This programs may contain the mention of products\, services\, drugs or brands presented in a case study or comparative format. Such examples are intended for educational and informational purposes and should not be perceived as a HealthTrust endorsement of any particular supplier\, product\, service\, drug\, brand or approach. \n 
URL:https://education.healthtrustpg.com/calendar/covid-19-webcast-series/2023-11-27/
CATEGORIES:Nursing,Other
END:VEVENT
BEGIN:VEVENT
DTSTART;VALUE=DATE:20231128
DTEND;VALUE=DATE:20231129
DTSTAMP:20260421T045450
CREATED:20221213T225915Z
LAST-MODIFIED:20221213T225915Z
UID:10003503-1701129600-1701215999@education.healthtrustpg.com
SUMMARY:On-demand: "Breaking Barriers to Successful NPWTi-d Outcomes: Leveraging Advanced Dressings & Automated Technology for Efficient Patient Care"
DESCRIPTION:3M Health Care Academy* presents…an On-demand program: “Breaking Barriers to Successful NPWTi-d Outcomes: Leveraging Advanced Dressings & Automated Technology for Efficient Patient Care” \nLearning Objectives |  At the end of this session\, participants should be able to: \n\nReview the latest analysis on efficiency and improved outcomes with early use of NPWTi-d\nExplore NPWTi-d innovations that incorporate efficient fluid estimation systems and dressing technologies\nExplore cases\, while demystifying the clinical application of NPWTi-d for effective wound cleansing and management\n\nTarget Audience:  This activity is designed for clinicians across all practice settings involved in the prevention\, treatment\, and management of patients with wounds. \nPresenters: \nLuis G. Fernandez\, MD\, KHS\, KCOEG\, FACS\, FASAS\, FCCP\, FCCM\, FICS\nProf. of Surgery / Adjunct Clinical Prof. / Adjunct Clinical Assistant Prof. / Medical Director\nUniversity of Texas Health Science Center\, Tyler\, Texas; Trauma Wound Care\, UT Health East\, Tyler\, Texas; University of Texas\, Arlington\, Texas; University of North Texas Fort Worth\, Texas\nTyler\, TX \nPaul J. Kim\, DPM\, MS\, FACFAS\nProfessor\, Medical Director\nUniversity of Texas Southwestern\nUniversity of Texas Southwestern\nDallas\, TX \nMarc R. Matthews\, MD\, MS\, MCG\, FASC\, FASGS\nAssociate Professor of Surgery\nCreighton University\, University of Arizona\, Midwestern University\, AT Still University School of Medicine\nPhoenix\, AZ \nTarget audience: This activity is designed for designed for physicians\, nursing professionals\, physical therapists\, researchers\, scientists\, podiatrists\, and dietitians across all practice settings involved in wound healing or wound care issues. SAWC Fall programs provide attendees who study and treat wounds with state-of-the-art reviews of clinical problems and research information. \nThis on-demand webcast is available with synchronized slides and video/audio. \nContinuing Education:  1.5 CE available. See website for additional details and requirements \nTo be eligible for credit\, participants must complete the educational activity\, complete the 4-question post-test with a minimum score of 70%\, and complete the activity evaluation form. Upon completing the activity\, there will be instructions on how to complete the evaluation and print a certificate or other documentation of credit. \nRelease Date: November 14\, 2022\nExpiration Date: November 30\, 2023\nEstimated Time to Complete: 1.50 hour \nThere is no fee associated with this activity. \nSupported by an educational grant from 3M Health Care*\, Medical Solutions Division \nQuestions? Call 609.371.1137. \n* NOTE: This is a contracted supplier and/or industry-sponsored webinar. HealthTrust has not approved and/or endorsed the content. This program may contain the mention of products\, services\, drugs or brands presented in a case study or comparative format. Such examples are intended for educational and informational purposes and should not be perceived as a HealthTrust endorsement of any particular supplier\, product\, service\, drug\, brand or approach.
URL:https://education.healthtrustpg.com/calendar/on-demand-breaking-barriers-to-successful-npwti-d-outcomes-leveraging-advanced-dressings-automated-technology-for-efficient-patient-care/2023-11-28/
CATEGORIES:Food & Nutrition,Nursing,Other,Physicians,Podiatry
END:VEVENT
BEGIN:VEVENT
DTSTART;VALUE=DATE:20231128
DTEND;VALUE=DATE:20231129
DTSTAMP:20260421T045450
CREATED:20230207T170746Z
LAST-MODIFIED:20230207T193759Z
UID:10001320-1701129600-1701215999@education.healthtrustpg.com
SUMMARY:On demand program: "Strategies & Techniques for Managing Complex Wounds using NPWT"
DESCRIPTION:Center for Healing Solutions\, HMP Education & 3M Health Care* present an…On-demand program: “”Strategies & Techniques for Managing Complex Wounds using NPWT” p” \nLEARNING OBJECTIVES  |  After participating in this activity\, learners should be better able to: \n\nExamine the landscape of negative pressure wound therapy\nExplore cases illustrating the use of negative pressure wound therapy on a variety of wound types\nExamine best practice techniques for optimizing the use of NPWT across the spectrum of healthcare delivery\n\nPresenters: \n \nDot Weir\, RN\, CWON\, CWS  |  Clinical Staff  |  Saratoga Hospital Center for Wound Healing & Hyperbaric Medicine  |  Saratoga Springs\, NY \n \nPhilip Wrotslavsky\, DPM FACFAS  |  Director of the Advanced Foot & Ankle Center of San Diego  |  San Diego\, CA \nTarget Audience: This activity is designed for physicians\, nurses\, nurse practitioners\, physician assistants and podiatrists across all practice settings involved in the prevention\, treatment and management of patients with wounds. \n\n\n\nCE CREDIT  |  This on-demand webcast is available as a synchronized video with slides. To be eligible for credit\, participants must complete the online activity and the evaluation. Upon completing the activity\, there will be instructions on how to complete the evaluation and print a certificate or other documentation of credit. \nRelease date: January 31\, 2023\nExpiration date: November 30\, 2024\nEstimated time to complete: 8 hours \nThere is no fee associated with this activity. \nIn support of improving patient care\, HMP Education is jointly accredited by the Accreditation Council for Continuing Medical Education (ACCME)\, the Accreditation Council for Pharmacy Education (ACPE)\, and the American Nurses Credentialing Center (ANCC) to provide continuing education for the healthcare team. Note: This statement is not an indication of approved credits. Please visit the accreditation page for full accreditation details\, including credit types and totals\, for this activity. \nProvided by HMP Education\, an HMP Global Company. Supported by an educational grant from 3M Health Care\, Medical Solutions Division* \nQuestions should be directed to: call 609-371-1137 or email info@naccme.com. \n* NOTE: This is an industry resource and contracted supplier-sponsored webinar. HealthTrust has not approved and/or endorsed the content. This program may contain the mention of products\, services\, drugs or brands presented in a case study or comparative format. Such examples are intended for educational and informational purposes and should not be perceived as a HealthTrust endorsement of any particular supplier\, product\, service\, drug\, brand or approach. \n\n\n\n 
URL:https://education.healthtrustpg.com/calendar/on-demand-program-strategies-techniques-for-managing-complex-wounds-using-npwt/2023-11-28/
CATEGORIES:Nursing,Other,Physicians,Podiatry
END:VEVENT
BEGIN:VEVENT
DTSTART;VALUE=DATE:20231128
DTEND;VALUE=DATE:20231129
DTSTAMP:20260421T045450
CREATED:20231017T184541Z
LAST-MODIFIED:20231017T184757Z
UID:10001488-1701129600-1701215999@education.healthtrustpg.com
SUMMARY:On-Demand Program: "Back to Basics: A Primer on Advanced Wound Care Modalities"
DESCRIPTION:3M Health Care\,* the Center for Healing Solutions & HMP Global* present…“Back to Basics: A Primer on Advanced Wound Care Modalities” \nLearning Objectives  |  After participating in this activity\, learners should be better able to: \n\nReview the normal healing process and pathophysiology of non‐healing wounds\nApply evidence‐based methods of wound bed preparation and dressing based on clinical assessment\nExamine current treatment modalities for wound care highlighting compression therapy\, negative pressure wound therapy\, advanced wound care dressings\, and skin protectants\nDetermine when and on which types of wounds to use various advanced wound care modalities\n\nPresenters: \n \nDot Weir\, RN\, CWON\, CWS  |  Clinical Staff  |  Saratoga Hospital Center for Wound Healing & Hyperbaric Medicine  |  Saratoga Springs\, NY \n \nCatherine Milne\, ACNSBC\, CWOCN-AP  |  Connecticut Clinical Nursing Associates\, LLC  |  Bristol\, Connecticut \nTarget Audience:  This activity is designed for physicians\, nurses\, nurse practitioners\, physician assistants and podiatrists across all practice settings involved in the prevention\, treatment\, and management of patients with wounds. \nCE Credit:  In support of improving patient care\, HMP Education is jointly accredited by the Accreditation Council for Continuing Medical Education (ACCME)\, the Accreditation Council for Pharmacy Education (ACPE)\, and the American Nurses Credentialing Center (ANCC)\, to provide continuing education for the healthcare team. \nThis on-demand webcast is available as a synchronized video with slides. To be eligible for credit\, participants must complete the educational activity\, complete the 4-question post-test with a minimum score of 70%\, and complete the activity evaluation form. Upon completing the activity\, there will be instructions on how to complete the evaluation and print a certificate or other documentation of credit. \nRelease Date: September 29\, 2023\nExpiration Date: November 30\, 2024\nEstimated Time to Complete: 1.00 hour \nThere is no fee associated with this activity. Supported by an educational grant from 3M Health Care*\, Medical Solutions Division \nQuestions? Please call 609-371-1137 or email accreditation@hmpglobal.com \n*NOTE: This is an industry resource and/or contracted supplier-sponsored webinar. HealthTrust has not approved and/or endorsed the content. This program may contain the mention of products\, services\, drugs or brands presented in a case study or comparative format. Such examples are intended for educational and informational purposes and should not be perceived as a HealthTrust endorsement of any particular supplier\, product\, service\, drug\, brand or approach.
URL:https://education.healthtrustpg.com/calendar/on-demand-program-back-to-basics-a-primer-on-advanced-wound-care-modalities/2023-11-28/
CATEGORIES:Nursing,Physicians,Podiatry
END:VEVENT
BEGIN:VEVENT
DTSTART;VALUE=DATE:20231128
DTEND;VALUE=DATE:20231129
DTSTAMP:20260421T045450
CREATED:20231103T163103Z
LAST-MODIFIED:20231103T171202Z
UID:10001453-1701129600-1701215999@education.healthtrustpg.com
SUMMARY:NOW OPEN: Call for Proposals | 2024 HealthTrust University Conference
DESCRIPTION:The Call for Proposals for 60-minute\, CE-based education sessions at the 2024 HealthTrust University Conference is open now through Friday\, Dec. 29\, 2023. \nSubmit your proposal today or contact us to request a conversation with an SME to discuss potential topics. \n  \n| August 12-14  | 2024  |  Orlando\, Florida | \n\n 
URL:https://education.healthtrustpg.com/calendar/now-open-call-for-proposals-2024-healthtrust-university-conference/2023-11-28/
END:VEVENT
END:VCALENDAR