BEGIN:VCALENDAR
VERSION:2.0
PRODID:-//Healthtrust Education - ECPv6.15.18//NONSGML v1.0//EN
CALSCALE:GREGORIAN
METHOD:PUBLISH
X-ORIGINAL-URL:https://education.healthtrustpg.com
X-WR-CALDESC:Events for Healthtrust Education
REFRESH-INTERVAL;VALUE=DURATION:PT1H
X-Robots-Tag:noindex
X-PUBLISHED-TTL:PT1H
BEGIN:VTIMEZONE
TZID:America/Chicago
BEGIN:DAYLIGHT
TZOFFSETFROM:-0600
TZOFFSETTO:-0500
TZNAME:CDT
DTSTART:20220313T080000
END:DAYLIGHT
BEGIN:STANDARD
TZOFFSETFROM:-0500
TZOFFSETTO:-0600
TZNAME:CST
DTSTART:20221106T070000
END:STANDARD
BEGIN:DAYLIGHT
TZOFFSETFROM:-0600
TZOFFSETTO:-0500
TZNAME:CDT
DTSTART:20230312T080000
END:DAYLIGHT
BEGIN:STANDARD
TZOFFSETFROM:-0500
TZOFFSETTO:-0600
TZNAME:CST
DTSTART:20231105T070000
END:STANDARD
BEGIN:DAYLIGHT
TZOFFSETFROM:-0600
TZOFFSETTO:-0500
TZNAME:CDT
DTSTART:20240310T080000
END:DAYLIGHT
BEGIN:STANDARD
TZOFFSETFROM:-0500
TZOFFSETTO:-0600
TZNAME:CST
DTSTART:20241103T070000
END:STANDARD
END:VTIMEZONE
BEGIN:VEVENT
DTSTART;VALUE=DATE:20231105
DTEND;VALUE=DATE:20231106
DTSTAMP:20260419T094628
CREATED:20221004T182913Z
LAST-MODIFIED:20221004T191538Z
UID:10003418-1699142400-1699225199@education.healthtrustpg.com
SUMMARY:On-demand Program: "Great Debates & Updates in Temperature Management"
DESCRIPTION:3M Health Care\,* the Center for Healing Solutions* & HMP Global* present an…On-demand Program: “Great Debates & Updates in Temperature Management” \nTOPIC #1: Practice Changing Updates Panel: ERAS® Society Guidelines Recommendation for Prevention of Perioperative Hypothermia\nAfter participating in this activity\, learners should be able to: \n\nExplain the importance of temperature management during all phases of the perioperative journey\nDescribe warming protocols implemented to support an ERAS® bundle\nDiscuss key metrics used to evaluate warming protocols\nOutline strategies to collaborate with industry partners to have a successful implementation\nDiscuss the importance of a multidisciplinary team approach when implementing ERAS bundle/Patient warming protocol\nDiscuss the role of Patient engagement in successful implementation of ERAS guidelines\n\nPresenters: \nKari M. Cole\, Ed.D\, CRNA  |  Chief Nurse Anesthetist\, LAC + USC Medical Center  |  Assistant Clinical Professor  |  Keck School of Medicine of USC  |  Los Angeles\, California \nHans D. de Boer\, M.D.\, PhD.   |  Anesthesiologist and Pain Specialist  | Department of Anesthesiology\, Pain Medicine and Procedural Sedation and Analgesia  |  Martini General Hospital  |  Groningen\, Netherlands \nCathleen Ferguson\, RN\, BScN\, RNFA\, CPN(C)  |  ERAS Coordinator  |  St Martha’s Hospital  |  Nova Scotia\, Antigonish\, Canada \n*     *     *     *     *\nTOPIC #2: Impact of Inadvertent Perioperative Hypothermia: Causes and Consequences\nAfter participating in this activity\, learners should be able to: \n\nKnow the true core temperature monitoring sites\, other generally reliably monitoring sites\, and which sites are often unreliable\nUnderstand the normal thermoregulatory system\, including afferent input\, central control\, and afferent defenses\nUnderstand the importance of perioperative warming\, including benefits of pre-operative warming (“heat banking”)  via warming gowns\, maintenance of warming efforts throughout induction and surgical prep\, and requires teamwork\nUnderstand the importance of ongoing education and engagement regarding importance of perioperative temperature management\n\nPresenters: \nKari M. Cole\, Ed.D\, CRNA  |  Chief Nurse Anesthetist\, LAC + USC Medical Center  |  Assistant Clinical Professor  |  Keck School of Medicine of USC  |  Los Angeles\, California \nDaniel I. Sessler\, M.D.  |  Michael Cudahy Professor & Chair  |  Department of Outcomes Research  |  Cleveland\, Ohio \n*     *     *     *     *\nTOPIC #3: Great Debates and Updates in Temperature Monitoring\n\nBe able to describe the effects of general anesthesia on warm and cold response thresholds\nUnderstand the etiology of each phase of the hypothermia curve\nUnderstand the importance of perioperative temperature monitoring\, discuss key metrics to evaluate warming protocol\, and potential benefit of consistent thermometry method throughout perioperative process to reduce thermometry variation\nUnderstand the importance of maintaining patient safety and standards of practice: ASA/AANA/APSF/AORN\n\nPresenters: \nKari M. Cole\, Ed.D\, CRNA  |  Chief Nurse Anesthetist\, LAC + USC Medical Center  |  Assistant Clinical Professor  |  Keck School of Medicine of USC  |  Los Angeles\, California \nDaniel I. Sessler\, M.D.  |  Michael Cudahy Professor & Chair  |  Department of Outcomes Research  |  Cleveland\, Ohio \n*     *     *     *     *\nTarget Audience: This activity is designed for anesthesiologists and Certified Nurse Anesthetists (CRNAs). \nCE Credit: This on-demand webcast is available with synchronized slides and video/audio. To be eligible for credit\, participants must complete the educational activity\, complete the 6-question post-test with a minimum score of 70%\, and complete the activity evaluation form. Upon completing the activity\, there will be instructions on how to complete the evaluation and print a certificate or other documentation of credit. \nRelease Date: September 30\, 2022\nExpiration Date: November 30\, 2023\nEstimated Time to Complete: 2.5 hours \nThere is no fee associated with this activity. \nIn support of improving patient care\, HMP Education is jointly accredited by the Accreditation Council for Continuing Medical Education (ACCME)\, the Accreditation Council for Pharmacy Education (ACPE)\, and the American Nurses Credentialing Center (ANCC)\, to provide continuing education for the healthcare team. \nFor questions regarding this educational activity\, please call 609-371-1137 or email accreditation@hmpglobal.com. \n* NOTE: This is an industry resource and/or contracted supplier-sponsored webinar. HealthTrust has not approved and/or endorsed the content. This program may contain the mention of products\, services\, drugs or brands presented in a case study or comparative format. Such examples are intended for educational and informational purposes and should not be perceived as a HealthTrust endorsement of any particular supplier\, product\, service\, drug\, brand or approach. \n 
URL:https://education.healthtrustpg.com/calendar/on-demand-program-great-debates-updates-in-temperature-management/2023-11-05/
CATEGORIES:Nursing,Other,Physicians
END:VEVENT
BEGIN:VEVENT
DTSTART;VALUE=DATE:20231105
DTEND;VALUE=DATE:20231106
DTSTAMP:20260419T094628
CREATED:20230405T145501Z
LAST-MODIFIED:20230405T145501Z
UID:10003519-1699142400-1699225199@education.healthtrustpg.com
SUMMARY:"Preventing Bloodstream Infections in the Vascular Access Patient:  Addressing Intraluminal and Extraluminal VAD Contamination"
DESCRIPTION:HMP Global and 3M Health Care*\, Medical Solutions Division present…“Preventing Bloodstream Infections in the Vascular Access Patient: Addressing Intraluminal and Extraluminal VAD Contamination” \nLearning Objectives  |  At the end of this session\, participants should be able to: \n\nIdentify various sources of contamination that increase risks leading to catheter bloodstream infection\nExplore clinical challenges associated with VAD maintenance that can impact outcomes\nReview the recommended guidelines\, practices and evidence-based interventions for VAD maintenance to aid with the reduction of BSI risk\nIdentify strategies for prevention of VA related bloodstream infection in patients\n\nPresenters: \n \nMax Holder\, MSN\, RN\, CRNI\, NE-BC\, VA\, BC  |  Baylor University Medical Center  |  Dallas\, Texas \n \nKaren Laforet\, RN\, MCLSC\, CCHN(C)\, VA-BC\, CVAA(C)  |  Senior Clinical Consultant  |  LK Professional Consulting Group  |  London\, Ontario Canada \nTarget Audience:  This activity is designed for vascular access nurses\, infection preventionists and any\nother healthcare professional involved in the prevention of blood stream infections. \nContinuing Education:  In support of improving patient care\, HMP Education is jointly accredited by the Accreditation Council for Continuing Medical Education (ACCME)\, the Accreditation Council for Pharmacy Education (ACPE)\, and the American Nurses Credentialing Center (ANCC) to provide continuing education for the healthcare team.\nNote: This statement is not an indication of approved credits. Please visit the accreditation page for full accreditation details\, including credit types and totals\,\nfor this activity. PODIATRY: HMP Education is approved by the Council on Podiatric Medical Education as a provider of continuing education in podiatric medicine. HMP Education has approved this internet enduring activity for a maximum of 1.00 continuing education contact hours. \nThis on-demand webcast is available as a synchronized video with slides. To be eligible for credit\, participants must complete the activity and the evaluation. Upon completing the activity\, there will be instructions on how to print a certificate or other documentation of credit. There is no fee associated with this activity. \nRelease Date: March 31\, 2023\nExpiration Date: November 30\, 2024\nEstimated Time to Complete: 1.00 hour \nQuestions?: For questions regarding this educational activity\, please call 609-371-1137. \n* NOTE: This is a contracted supplier and/or industry-sponsored webinar. HealthTrust has not approved and/or endorsed the content. This program may contain the mention of products\, services\, drugs or brands presented in a case study or comparative format. Such examples are intended for educational and informational purposes and should not be perceived as a HealthTrust endorsement of any particular supplier\, product\, service\, drug\, brand or approach. \n  \n 
URL:https://education.healthtrustpg.com/calendar/preventing-bloodstream-infections-in-the-vascular-access-patient-addressing-intraluminal-and-extraluminal-vad-contamination/2023-11-05/
CATEGORIES:Hematology,Nursing,Pharmacy,Physicians,Podiatry
END:VEVENT
BEGIN:VEVENT
DTSTART;VALUE=DATE:20231105
DTEND;VALUE=DATE:20231106
DTSTAMP:20260419T094628
CREATED:20231103T163103Z
LAST-MODIFIED:20231103T171202Z
UID:10001430-1699142400-1699225199@education.healthtrustpg.com
SUMMARY:NOW OPEN: Call for Proposals | 2024 HealthTrust University Conference
DESCRIPTION:The Call for Proposals for 60-minute\, CE-based education sessions at the 2024 HealthTrust University Conference is open now through Friday\, Dec. 29\, 2023. \nSubmit your proposal today or contact us to request a conversation with an SME to discuss potential topics. \n  \n| August 12-14  | 2024  |  Orlando\, Florida | \n\n 
URL:https://education.healthtrustpg.com/calendar/now-open-call-for-proposals-2024-healthtrust-university-conference/2023-11-05/
END:VEVENT
END:VCALENDAR