BEGIN:VCALENDAR
VERSION:2.0
PRODID:-//Healthtrust Education - ECPv6.15.18//NONSGML v1.0//EN
CALSCALE:GREGORIAN
METHOD:PUBLISH
X-ORIGINAL-URL:https://education.healthtrustpg.com
X-WR-CALDESC:Events for Healthtrust Education
REFRESH-INTERVAL;VALUE=DURATION:PT1H
X-Robots-Tag:noindex
X-PUBLISHED-TTL:PT1H
BEGIN:VTIMEZONE
TZID:America/Chicago
BEGIN:DAYLIGHT
TZOFFSETFROM:-0600
TZOFFSETTO:-0500
TZNAME:CDT
DTSTART:20220313T080000
END:DAYLIGHT
BEGIN:STANDARD
TZOFFSETFROM:-0500
TZOFFSETTO:-0600
TZNAME:CST
DTSTART:20221106T070000
END:STANDARD
BEGIN:DAYLIGHT
TZOFFSETFROM:-0600
TZOFFSETTO:-0500
TZNAME:CDT
DTSTART:20230312T080000
END:DAYLIGHT
BEGIN:STANDARD
TZOFFSETFROM:-0500
TZOFFSETTO:-0600
TZNAME:CST
DTSTART:20231105T070000
END:STANDARD
BEGIN:DAYLIGHT
TZOFFSETFROM:-0600
TZOFFSETTO:-0500
TZNAME:CDT
DTSTART:20240310T080000
END:DAYLIGHT
BEGIN:STANDARD
TZOFFSETFROM:-0500
TZOFFSETTO:-0600
TZNAME:CST
DTSTART:20241103T070000
END:STANDARD
END:VTIMEZONE
BEGIN:VEVENT
DTSTART;VALUE=DATE:20230614
DTEND;VALUE=DATE:20230615
DTSTAMP:20260420T080759
CREATED:20220510T202904Z
LAST-MODIFIED:20220510T202904Z
UID:10003311-1686700800-1686787199@education.healthtrustpg.com
SUMMARY:On-demand program: "Patient-Pathway to Wound Management: Examining the Use of Silicone-Acrylic Drape with NPWT"
DESCRIPTION:Center for Healing Solutions & 3M Health Care & HMP Education* present an…On-demand program: “Patient-Pathway to Wound Management: Examining the Use of Silicone-Acrylic Drape\nwith NPWT” \nLEARNING OBJECTIVES  |  After participating in this activity\, learners should be better able to: \n\n\n\n\nInvestigate challenges associated with the use of medical adhesives associated with wound care products on periwound skin and the increased risk of patient’s developing medical-adhesive-related skin injury\nExamine limitations of traditional drapes (challenges with repositioning and drape removal)\nAssess features of a novel hybrid polyurethane drape with acrylic adhesive and a silicone for use with negative pressure wound therapy (NPWT)\nExplore cases illustrating the use of NPWT with hybrid drape over anatomically challenging wounds\n\n\n\n\nPresenters: \n\nAmanda Estapa\, ACNP-BC\, CWS\, FACCWS\, DAPWCA  |  Vice President of Clinical Services – MedCentris  |  Hammond\, Louisiana\nMatthew G. Garoufalis\, DPM\, FASPS\, FACPM\, CWS\, FFPM RCPS (Glasg)\, FRSM  |  Medical Director – Professional Foot Care Specialists\, PC  |  Chicago\, Illinois\nRobert J. Klein\, DPM\, FACFAS\, CWS  |  Associate Professor of Surgery  |  University of South Carolina School of Medicine – Greenville  |  USC School of Medicine – Greenville  |  Greenville\, South Carolina\n\nTARGET AUDIENCE: This activity is designed for physicians\, physician assistants\, nurses\, podiatrists\, and physical therapists. \n\n\n\nCE CREDIT  |  This on-demand webcast is available as a synchronized video with slides. To be eligible for credit\, participants must complete the online activity and the evaluation. Upon completing the activity\, there will be instructions on how to complete the evaluation and print a certificate or other documentation of credit. \n\n\n\n\nRelease Date: April 30\, 2022\nExpiration Date: November 30\, 2023\nEstimated Time to Complete: 1 hour \nThere is no fee associated with this activity. \nIn support of improving patient care\, HMP Education is jointly accredited by the Accreditation Council for Continuing Medical Education (ACCME)\, the Accreditation Council for\nPharmacy Education (ACPE)\, and the American Nurses Credentialing Center (ANCC)\, to provide continuing education for the healthcare team. \nProvided by HMP Education\, an HMP Global Company. Supported by an educational grant from 3M Health Care\, Medical Solutions Division \nQuestions should be directed to: call 609-371-1137 or email info@naccme.com. \n* NOTE: This is an industry resource and contracted supplier-sponsored webinar. HealthTrust has not approved and/or endorsed the content. This program may contain the mention of products\, services\, drugs or brands presented in a case study or comparative format. Such examples are intended for educational and informational purposes and should not be perceived as a HealthTrust endorsement of any particular supplier\, product\, service\, drug\, brand or approach.
URL:https://education.healthtrustpg.com/calendar/on-demand-program-patient-pathway-to-wound-management-examining-the-use-of-silicone-acrylic-drape-with-npwt/2023-06-14/
CATEGORIES:Nursing,Other,Physicians,Podiatry
END:VEVENT
BEGIN:VEVENT
DTSTART;VALUE=DATE:20230614
DTEND;VALUE=DATE:20230615
DTSTAMP:20260420T080759
CREATED:20230109T194518Z
LAST-MODIFIED:20230109T194518Z
UID:10001354-1686700800-1686787199@education.healthtrustpg.com
SUMMARY:On-Demand Program: "Leg Ulcer and Compression Day"
DESCRIPTION:Urgo Medical* and HMP Global Learning Network present an On-Demand Webcast…“Leg Ulcer and Compression Day” \nLearning Objectives  |  After participating in this activity\, learners should be better able to: \n\nExplain the pathophysiology of venous insufficiency and etiology of venous ulcers\nEvaluate the role of compression therapy\, as gold standard\, in treating venous disease and venous ulcers\nReview and compare and contrast the various types of compression\, e.g socks\, bandages\, pneumatics\nExplore patient centric and clinician centric concerns to optimizing gold standard management\nReview available evidence on the efficacy\, safety\, and tolerance of various compression modalities\nIdentify other conditions which may or may not be associated with venous reflux such as lymphedema\, or diabetes related edema with/without diabetic ulcers\nExamine the engineering of compression fabrics\n\nPresenters: \nLouis Pilati\, M.D.  |  Medical Director Wound Healing and hyperbaric Medicine Center  |  Assistant Professor Emergency Medicine  |  Kettering Medical Center  |  Springboro\, OH \nKaren L. Bauer\, DNP\, CWS\, FAAWC  |  Director of Wound and Vascular Services  |  University of Toledo  |  Sylvania\, OH \nJohn C. Lantis\, II\, M.D.  |  Chief and Professor of Surgery  |  Mount Sinai West and the Icahn School of Medicine  |  Icahn School of Medicine  |  New York\, NY \nLucian G. Vlad\, M.D.  |  Assoc. Professor  |  Wake Forest School of Medicine  |  Winston-Salem\, NC \nSuzie Ehmann\, DPT\, Ph.D.(c)\, CWS\, CLT-LANA  |  Clinical Specialist  |  Atrium Health Stanly  |  North Myrtle Beach\, SC \nTarget Audience: Physicians\, Nursing Professionals\, Physical Therapists\, Researchers\, Scientists\, Podiatrists and Dietitians across all practice settings involved in wound healing or wound care issues. \nContinuing Education: In support of improving patient care\, HMP Education is jointly accredited by the Accreditation Council for Continuing Medical Education (ACCME)\, the Accreditation Council for Pharmacy Education (ACPE)\, and the American Nurses Credentialing Center (ANCC)\, to provide continuing education for the healthcare team. \n \nClaiming Credit\nTo be eligible for credit\, participants must complete the online activity and the evaluation. Upon completing the activity\, there will be instructions on how to complete the evaluation and print a certificate or other documentation of credit. \nRelease Date: November 14\, 2022\nExpiration Date: November 14\, 2023\nEstimated Time to Complete: 4.00 hour \nThere is no fee associated with this activity. \nDisclosure of Relevant Financial Relationships\nHMP Education is an independent provider of continuing medical education. HMP Education has no proprietary or financial interest in medical or healthcare products over which the FDA (USA) or EMA (EU) has regulatory authority. Please see registration site for additional information and disclosures. \n* NOTE: This is a supplier and/or industry resource-sponsored webinar. HealthTrust has not approved and/or endorsed the content. This program may contain the mention of products\, services\, drugs or brands presented in a case study or comparative format. Such examples are intended for educational and informational purposes and should not be perceived as a HealthTrust endorsement of any particular supplier\, product\, service\, drug\, brand or approach.
URL:https://education.healthtrustpg.com/calendar/on-demand-program-leg-ulcer-and-compression-day/2023-06-14/
CATEGORIES:Food & Nutrition,Nursing,Other,Physicians,Podiatry
END:VEVENT
BEGIN:VEVENT
DTSTART;VALUE=DATE:20230614
DTEND;VALUE=DATE:20230615
DTSTAMP:20260420T080759
CREATED:20230614T164655Z
LAST-MODIFIED:20230614T164753Z
UID:10003557-1686700800-1686787199@education.healthtrustpg.com
SUMMARY:On-demand Program: "Head to Toe Team Approach to Wound Management: Harnessing Innovations in Negative Pressure Wound Therapy"
DESCRIPTION:3M Health Care\, Medical Solutions Division* and HMP Global Learning Network*  present…an on-demand program: “Head to Toe Team Approach to Wound Management: Harnessing Innovations in Negative Pressure Wound Therapy” \nLearning Objectives  |  After participating in this activity\, learners should be better able to: \n\nExamine the latest innovations in negative pressure wound therapy (NPWT)\nDescribe a holistic approach to wound managing harnessing the versatility of NPWT from taking a wound from stalled\, to jump-starting healing to closure\nExplore cases illustrating the utility of and advances in negative pressure wound therapy in tackling wounds from head to toe\nEmploy a team approaching to optimize patient outcomes with NPWT\n\nPresenters: \nPaul J. Kim\, DPM\, MS\, FACFAS  |  Professor\, Department of Plastic Surgery\, Department of Orthopedic Surgery  |  Medical Director\, Wound Program  |  University of Texas Southwestern \nAlisha Oropallo\, M.D.\, FSVS\, FACS\, FABWMS  |  Professor\, Department of Surgery\, Hofstra University/Northwell  |  Director\, Comprehensive Wound Healing Center  |  Northwell Health \nDevinder Singh\, M.D.  |  Chief\, Professor\, and Program Director  |  Division of Plastic Surgery\, University of Miami Miller School of Medicine \nTarget audience: This activity is designed for physicians\, physician assistants\, nurses\, podiatrists and physical therapists. \nContinuing Education: This on-demand webcast is available as a synchronized video with slides. To be eligible for documentation of credit\, participants must\ncomplete the educational activity\, complete the post-test with a score of 75% or better\, and complete the evaluation form. Upon completing the activity there will be instructions\non how to print a certificate or other documentation of credit. \nRelease Date: June 7\, 2023\nExpiration Date: November 30\, 2024\nEstimated Time to Complete: 1 hour \nThere is no fee associated with this activity.\nFor questions regarding this educational activity\, please call 609.371.1137.\nCONTINUING EDUCATION  | In support of improving patient care\, HMP Education is jointly accredited by the Accreditation Council for Continuing Medical Education (ACCME)\, the Accreditation Council for Pharmacy Education (ACPE)\, and the American Nurses Credentialing Center (ANCC) to provide continuing education for the healthcare team. Note: This statement is not an indication of approved credits. Please see below for full accreditation details\, including credit types and totals\, for this activity.\nPODIATRY\nHMP Education is approved by the Council on Podiatric Medical Education as a provider of continuing education in podiatric medicine. HMP Education has approved this internet enduring activity for a maximum of 1.00 continuing education contact hour.\nADA STATEMENT\nHMP Education complies with the legal requirements of the American with Disabilities Act and the rules and regulations thereof. If any participant in this educational activity is in need of accommodations\, please call 609.371.1137. \nThis activity is supported by an education grant from 3M Health Care\, Medical Solutions Division* \nQuestions should be directed to HMP Global: info@hmpglobal.com \n* NOTE: This is a contracted supplier and/or industry-sponsored webinar. HealthTrust has not approved and/or endorsed the content. This program may contain the mention of products\, services\, drugs or brands presented in a case study or comparative format. Such examples are intended for educational and informational purposes and should not be perceived as a HealthTrust endorsement of any particular supplier\, product\, service\, drug\, brand or approach.
URL:https://education.healthtrustpg.com/calendar/on-demand-program-head-to-toe-team-approach-to-wound-management-harnessing-innovations-in-negative-pressure-wound-therapy/2023-06-14/
CATEGORIES:Nursing,Other,Physicians
END:VEVENT
BEGIN:VEVENT
DTSTART;VALUE=DATE:20230614
DTEND;VALUE=DATE:20230615
DTSTAMP:20260420T080759
CREATED:20230614T165837Z
LAST-MODIFIED:20230614T165837Z
UID:10003575-1686700800-1686787199@education.healthtrustpg.com
SUMMARY:On-demand program: "Strategies & Techniques for Transitioning NPWT Across the Continuum"
DESCRIPTION:3M Health Care\, Medical Solutions Division* and HMP Global Learning Network*  present…an on-demand program: “Strategies & Techniques for Transitioning NPWT Across the Continuum” \nLearning Objectives  |  After participating in this activity\, learners should be better able to: \n\nAssess the prevalence of hospital readmissions\, the economic impact\, and the importance of preventing readmissions to improve wound healing\nExamine common challenges associated with discharging a NPWT patient to the post-acute care setting and the steps to develop a comprehensive discharge plan\nRecognize the importance of periwound management in the post-acute care setting and investigate the use of hybrid drapes in the prevention and management of periwound breakdown\nExplore\, via cases\, best practices on the transition of negative pressure wound therapy to post-acute care\n\nFaculty: \nDot M. Weir\, RN\, CWON\, CWS (moderator)  |  Clinician / Educator  |  Saratoga Hospital Wound Healing \nElizabeth Faust\, MSN\, CRNP\, CSWS\, CWOCN-AP\, MAPWCA  |  CRNP\, WOCN  |  Reading Hospital \nEmily Greenstein\, APRN\, CNP\, CWON-AP\, FACCWS  |  Certified Wound and Ostomy Nurse Practitioner  |  Sanford Health Fargo  |  Rasmussen College \nRobert J. Klein\, DPM\, FACFAS\, CWS\, FFPM RCPS (Glasgow)  |  Associate Professor of Surgery  |  University of South Carolina School of Medicine – Greenville \nTarget audience: This activity is designed for physicians\, physician assistants\, nurses\, podiatrists and physical therapists. \nContinuing Education: This on-demand webcast is available as a synchronized video with slides. To be eligible for documentation of credit\, participants must\ncomplete the educational activity\, complete the post-test with a score of 75% or better\, and complete the evaluation form. Upon completing the activity there will be instructions\non how to print a certificate or other documentation of credit. \nRelease Date: June 7\, 2023\nExpiration Date: November 30\, 2024\nEstimated Time to Complete: 1 hour \nThere is no fee associated with this activity. \nCONTINUING EDUCATION  | In support of improving patient care\, HMP Education is jointly accredited by the Accreditation Council for Continuing Medical Education (ACCME)\, the Accreditation Council for Pharmacy Education (ACPE)\, and the American Nurses Credentialing Center (ANCC) to provide continuing education for the healthcare team. Note: This statement is not an indication of approved credits. Please see below for full accreditation details\, including credit types and totals\, for this activity.\nPODIATRY\nHMP Education is approved by the Council on Podiatric Medical Education as a provider of continuing education in podiatric medicine. HMP Education has approved this internet enduring activity for a maximum of 1.00 continuing education contact hour.\nADA STATEMENT\nHMP Education complies with the legal requirements of the American with Disabilities Act and the rules and regulations thereof. If any participant in this educational activity is in need of accommodations\, please call 609.371.1137. \nThis activity is supported by an education grant from 3M Health Care\, Medical Solutions Division* \nQuestions should be directed to HMP Global: info@hmpglobal.com or call 609.371.1137 \n* NOTE: This is a contracted supplier and/or industry-sponsored webinar. HealthTrust has not approved and/or endorsed the content. This program may contain the mention of products\, services\, drugs or brands presented in a case study or comparative format. Such examples are intended for educational and informational purposes and should not be perceived as a HealthTrust endorsement of any particular supplier\, product\, service\, drug\, brand or approach.
URL:https://education.healthtrustpg.com/calendar/on-demand-program-strategies-techniques-for-transitioning-npwt-across-the-continuum/2023-06-14/
CATEGORIES:Nursing,Other,Physicians
END:VEVENT
END:VCALENDAR